BEGIN:VCALENDAR
VERSION:2.0
PRODID:-//Sistema Museale - ECPv5.14.0.4//NONSGML v1.0//EN
CALSCALE:GREGORIAN
METHOD:PUBLISH
X-WR-CALNAME:Sistema Museale
X-ORIGINAL-URL:https://sistemamuseale.cmvs.it
X-WR-CALDESC:Events for Sistema Museale
REFRESH-INTERVAL;VALUE=DURATION:PT1H
X-Robots-Tag:noindex
X-PUBLISHED-TTL:PT1H
BEGIN:VTIMEZONE
TZID:Europe/Rome
BEGIN:DAYLIGHT
TZOFFSETFROM:+0100
TZOFFSETTO:+0200
TZNAME:CEST
DTSTART:20230326T010000
END:DAYLIGHT
BEGIN:STANDARD
TZOFFSETFROM:+0200
TZOFFSETTO:+0100
TZNAME:CET
DTSTART:20231029T010000
END:STANDARD
END:VTIMEZONE
BEGIN:VEVENT
DTSTART;TZID=Europe/Rome:20231008T150000
DTEND;TZID=Europe/Rome:20231008T163000
DTSTAMP:20260424T132019
CREATED:20231002T080308Z
LAST-MODIFIED:20231002T080308Z
UID:1901-1696777200-1696782600@sistemamuseale.cmvs.it
SUMMARY:Famiglie al Museo 2023 al MAVS di Gavardo
DESCRIPTION:UNA DOMENICA IN MUSEO PER FAMIGLIE\, TRA STORIA E ARCHEOLOGIA \nIn occasione della nuova edizione di FAMU – Famiglie al museo\, il MAVS di Gavardo propone DOMENICA 8 OTTOBRE l’iniziativa “Il lupo e l’orso delle caverne” rivolta a bimbi e bimbe assieme alle loro famiglie. \nRicollegandosi al tema generale dell’evento nazionale – giunto alla sua decima edizione – “Apriti museo”\, sarà possibile compiere un viaggio nella storia attraverso l’osservazione dei reperti esposti nella sala paleontologica del MAVS\, tra cui i resti del famoso Ursus Spelaeus e del lupo ritrovati durante le ricerche presso la grotta “Buco del Frate”. \nL’attività\, in programma dalle 15 alle 16:30\, comprende una visita guidata e un laboratorio didattico per bimbi dai 4 ai 12 anni\, da svolgere con gli altri membri della famiglia (più grandi e più piccoli). \nL’evento curato dal servizio didattico del Museo archeologico della Valle Sabbia in collaborazione con le operatrici didattiche de La Melagrana è totalmente gratuito ma con prenotazione necessaria\, da effettuarsi tramite questo link. \nPer maggiori informazioni sulla giornata nazionale di “Famiglie al museo” è possibile visitare il sito: https://famigliealmuseo.com/ \n  \n 
URL:https://sistemamuseale.cmvs.it/event/famiglie-al-museo-2023-al-mavs-di-gavardo/
LOCATION:museo archeologico della valle sabbia\, Piazza S. Bernardino\, 5\, Gavardo\, BS\, 25085\, Italia
CATEGORIES:Laboratori,Visita Guidata
ATTACH;FMTTYPE=image/png:https://sistemamuseale.cmvs.it/wp-content/uploads/2023/10/FAMU_2023_Social.png
END:VEVENT
BEGIN:VEVENT
DTSTART;TZID=Europe/Rome:20231008T150000
DTEND;TZID=Europe/Rome:20231008T180000
DTSTAMP:20260424T132019
CREATED:20230929T080930Z
LAST-MODIFIED:20230929T081005Z
UID:1889-1696777200-1696788000@sistemamuseale.cmvs.it
SUMMARY:Labor. Passeggiando tra strade e vicoli.
DESCRIPTION:Passeggiando tra strade e vicoli. Percorso alla scoperta della storia di Vobarno e laboratorio in biblioteca.\nAttività dedicata a bambini e famiglie\n\nOre 15.00 ritrovo presso il sagrato della chiesa parrocchiale di Santa Maria Assunta\nInformazioni e prenotazioni: biblioteca comunale di Vobarno 0365597618\n\n\n\nNell’ambito della rassegna LABOR: percorsi ed esperienze inedite tra valle e lago\, progetto curato dal Sistema Museale di Valle Sabbia e il Sistema Bibliotecario Nord Est Bresciano\, aderente alla Rete Bibliotecaria Bresciana\, di cui è capofila la Provincia di Brescia\, e di numerosi altri soggetti.\nGli eventi\, legati dal tema comune del lavoro e degli antichi mestieri\, si terranno da luglio a dicembre 2023 in varie località e sedi della Valle Sabbia e del Lago di Garda.
URL:https://sistemamuseale.cmvs.it/event/labor-passeggiando-tra-strade-e-vicoli-percorso-alla-scoperta-della-storia-di-vobarno-e-laboratorio-in-biblioteca/
LOCATION:Biblioteca Comunale di Vobarno\, Piazza Marina Corradini\, 6\, Vobarno\, 25079
CATEGORIES:Escursione,Laboratori,Visita Guidata
ATTACH;FMTTYPE=image/png:https://sistemamuseale.cmvs.it/wp-content/uploads/2023/09/vobarno-8-ottobre.png
END:VEVENT
END:VCALENDAR