BEGIN:VCALENDAR
VERSION:2.0
PRODID:-//Sistema Museale - ECPv5.14.0.4//NONSGML v1.0//EN
CALSCALE:GREGORIAN
METHOD:PUBLISH
X-WR-CALNAME:Sistema Museale
X-ORIGINAL-URL:https://sistemamuseale.cmvs.it
X-WR-CALDESC:Events for Sistema Museale
REFRESH-INTERVAL;VALUE=DURATION:PT1H
X-Robots-Tag:noindex
X-PUBLISHED-TTL:PT1H
BEGIN:VTIMEZONE
TZID:Europe/Rome
BEGIN:DAYLIGHT
TZOFFSETFROM:+0100
TZOFFSETTO:+0200
TZNAME:CEST
DTSTART:20230326T010000
END:DAYLIGHT
BEGIN:STANDARD
TZOFFSETFROM:+0200
TZOFFSETTO:+0100
TZNAME:CET
DTSTART:20231029T010000
END:STANDARD
END:VTIMEZONE
BEGIN:VEVENT
DTSTART;TZID=Europe/Rome:20231015T150000
DTEND;TZID=Europe/Rome:20231015T180000
DTSTAMP:20260424T132041
CREATED:20230929T080115Z
LAST-MODIFIED:20230929T080115Z
UID:1883-1697382000-1697392800@sistemamuseale.cmvs.it
SUMMARY:Labor. L’antico chiostro di San Francesco e l’arte di coltivare limoni. Laboratorio per bambini a Gargnano
DESCRIPTION:Laboratorio per bambini a Gargnano\nUn pomeriggio dedicato ai più piccoli\, alla scoperta del borgo e della sua storia.\nAppuntamento alle ore 15:00 in Piazza Feltrinelli\, per maggiori informazioni contattare Ufficio Cultura del Comune di Gargnano\n03657988305 – biblioteca@comune.gargnano.bs.it\n\n\nNell’ambito della rassegna LABOR: percorsi ed esperienze inedite tra valle e lago\, progetto curato dal Sistema Museale di Valle Sabbia e il Sistema Bibliotecario Nord Est Bresciano\, aderente alla Rete Bibliotecaria Bresciana\, di cui è capofila la Provincia di Brescia\, e di numerosi altri soggetti.\nGli eventi\, legati dal tema comune del lavoro e degli antichi mestieri\, si terranno da luglio a dicembre 2023 in varie località e sedi della Valle Sabbia e del Lago di Garda.
URL:https://sistemamuseale.cmvs.it/event/labor-lantico-chiostro-di-san-francesco-e-larte-di-coltivare-limoni-laboratorio-per-bambini-a-gargnano/
LOCATION:Ex Palazzo Municipale Gargnano\, Piazza Feltrinelli\, Gargnano\, 25084\, Italia
CATEGORIES:Escursione,Laboratori
ATTACH;FMTTYPE=image/jpeg:https://sistemamuseale.cmvs.it/wp-content/uploads/2023/09/un-borgo-tutto-da-scoprire.-gargnano-e-la-sua-storia_page-0001.jpg
END:VEVENT
END:VCALENDAR