BEGIN:VCALENDAR
VERSION:2.0
PRODID:-//Sistema Museale - ECPv5.14.0.4//NONSGML v1.0//EN
CALSCALE:GREGORIAN
METHOD:PUBLISH
X-WR-CALNAME:Sistema Museale
X-ORIGINAL-URL:https://sistemamuseale.cmvs.it
X-WR-CALDESC:Events for Sistema Museale
REFRESH-INTERVAL;VALUE=DURATION:PT1H
X-Robots-Tag:noindex
X-PUBLISHED-TTL:PT1H
BEGIN:VTIMEZONE
TZID:Europe/Rome
BEGIN:DAYLIGHT
TZOFFSETFROM:+0100
TZOFFSETTO:+0200
TZNAME:CEST
DTSTART:20240331T010000
END:DAYLIGHT
BEGIN:STANDARD
TZOFFSETFROM:+0200
TZOFFSETTO:+0100
TZNAME:CET
DTSTART:20241027T010000
END:STANDARD
END:VTIMEZONE
BEGIN:VEVENT
DTSTART;TZID=Europe/Rome:20240901T150000
DTEND;TZID=Europe/Rome:20240901T170000
DTSTAMP:20260423T155744
CREATED:20240820T132950Z
LAST-MODIFIED:20240821T094017Z
UID:2484-1725202800-1725210000@sistemamuseale.cmvs.it
SUMMARY:METALLURGIA AL LUCONE! #Mavs4kids
DESCRIPTION:Nuovo appuntamento domenicale per i piccoli archeologi ed archeologhe del MAVS e le loro famiglie! \nVisita e laboratorio creativo alla scoperta dei metalli nella preistoria! \n  \nDomenica 1 settembre 2024 ore 15:00 \nPer bimbi dai 6 agli 11 anni (minori accompagnati) \nPresso il sito archeologico del Lucone di Polpenazze\, via Lago Lucone Polpenazze del Garda \nIn caso di maltempo l’attività verrà annullata o spostata presso il Museo di Gavardo \n  \nAttività gratuita. Prenotazione necessaria: posti soggetti a disponibilità limitata \nModulo di prenotazione online: https://form.jotform.com/242212768446358 \nPer info: \n0365.371474 (lunedì-venerdì ore 9.00-13.00) \ninfo@museoarcheologicogavardo.it \n*Attività in collaborazione con La Melagrana
URL:https://sistemamuseale.cmvs.it/event/metallurgia/
LOCATION:Area archeologica del Lucone di Polpenazze\, Via lago Lucone\, Polpenazze del Garda\, 25080\, Italia
CATEGORIES:Apertura Straordinaria,Attività Ludica,Laboratori,Visita Guidata
ATTACH;FMTTYPE=image/png:https://sistemamuseale.cmvs.it/wp-content/uploads/2024/08/METALLURGIA-AL-LUCONE_new-1-settembre.png
END:VEVENT
END:VCALENDAR