BEGIN:VCALENDAR
VERSION:2.0
PRODID:-//Sistema Museale - ECPv5.14.0.4//NONSGML v1.0//EN
CALSCALE:GREGORIAN
METHOD:PUBLISH
X-WR-CALNAME:Sistema Museale
X-ORIGINAL-URL:https://sistemamuseale.cmvs.it
X-WR-CALDESC:Events for Sistema Museale
REFRESH-INTERVAL;VALUE=DURATION:PT1H
X-Robots-Tag:noindex
X-PUBLISHED-TTL:PT1H
BEGIN:VTIMEZONE
TZID:Europe/Rome
BEGIN:DAYLIGHT
TZOFFSETFROM:+0100
TZOFFSETTO:+0200
TZNAME:CEST
DTSTART:20240331T010000
END:DAYLIGHT
BEGIN:STANDARD
TZOFFSETFROM:+0200
TZOFFSETTO:+0100
TZNAME:CET
DTSTART:20241027T010000
END:STANDARD
END:VTIMEZONE
BEGIN:VEVENT
DTSTART;TZID=Europe/Rome:20241130T150000
DTEND;TZID=Europe/Rome:20241130T170000
DTSTAMP:20260421T183434
CREATED:20241112T132810Z
LAST-MODIFIED:20241112T132810Z
UID:2624-1732978800-1732986000@sistemamuseale.cmvs.it
SUMMARY:Museums & More in Valle Sabbia. Tracce di carbone
DESCRIPTION:Laboratorio per bambini 5-10 anni \n\n30 novembre 2024 | ore 15:00 \nRitrovo: Museo del Ferro “Dario Leali” – Fucina di Pamparane\, Odolo \nUtilizziamo l’antico combustibile delle fucine per realizzare un’opera d’arte collettiva Dimostrazione del lavoro al maglio al Museo del Ferro\, a seguire laboratorio in Biblioteca. \n\nDurata: 2 ore circa.\nI bambini dovranno essere accompagnati da un adulto. Il laboratorio si svolgerà anche in caso di pioggia.\nPrenotazione obbligatoria\, fino a 24 ore prima dell’evento: 345 6192700 (solo whatsapp) oppure didattica@lamelagrana.it \n\nMuseums & More in Vallesabbia è una rassegna a cura del Sistema Museale della Valle Sabbia\, realizzata con il contributo di Regione Lombardia.
URL:https://sistemamuseale.cmvs.it/event/museums-more-in-valle-sabbia-tracce-di-carbone/
LOCATION:museo del ferro\, Via M. D'Azeglio\, 25076 Odolo BS\, Odolo\, Brescia\, 25076\, Italia
CATEGORIES:Apertura Straordinaria,Attività Ludica,Laboratori,Visita Guidata
ATTACH;FMTTYPE=image/png:https://sistemamuseale.cmvs.it/wp-content/uploads/2024/11/MM-Laboratorio-Odolo-30-novembre.png
ORGANIZER;CN="Sistema%20Museale%20Valle%20Sabbia":MAILTO:sistemamuseale@cmvs.it
END:VEVENT
END:VCALENDAR