BEGIN:VCALENDAR
VERSION:2.0
PRODID:-//Sistema Museale - ECPv5.14.0.4//NONSGML v1.0//EN
CALSCALE:GREGORIAN
METHOD:PUBLISH
X-WR-CALNAME:Sistema Museale
X-ORIGINAL-URL:https://sistemamuseale.cmvs.it
X-WR-CALDESC:Events for Sistema Museale
REFRESH-INTERVAL;VALUE=DURATION:PT1H
X-Robots-Tag:noindex
X-PUBLISHED-TTL:PT1H
BEGIN:VTIMEZONE
TZID:Europe/Rome
BEGIN:DAYLIGHT
TZOFFSETFROM:+0100
TZOFFSETTO:+0200
TZNAME:CEST
DTSTART:20250330T010000
END:DAYLIGHT
BEGIN:STANDARD
TZOFFSETFROM:+0200
TZOFFSETTO:+0100
TZNAME:CET
DTSTART:20251026T010000
END:STANDARD
END:VTIMEZONE
BEGIN:VEVENT
DTSTART;TZID=Europe/Rome:20250202T150000
DTEND;TZID=Europe/Rome:20250202T170000
DTSTAMP:20260421T150256
CREATED:20250124T074740Z
LAST-MODIFIED:20250124T074805Z
UID:2702-1738508400-1738515600@sistemamuseale.cmvs.it
SUMMARY:MAVS 4 Kids. Il tatuaggio preistorico: alla scoperta della moda dei tatuaggi del passato!
DESCRIPTION:Proseguono gli appuntamenti nell’ambito della rassegna MAVS for KIDS\, il ciclo di iniziative del Museo Archeologico della Valle Sabbia dedicate ai più piccoli.\nDomenica 2 febbraio\, alle ore 15\, è in programma lo speciale evento Il tatuaggio preistorico: alla scoperta della moda dei tatuaggi del passato!\, con un laboratorio creativo alla scoperta degli antichi stampi di decorazione per ogni occasione. \nL’iniziativa\, curata dai servizi educativi del MAVS in collaborazione con le educatrici della Cooperativa La Melagrana\, ha un costo di 2 euro a partecipante ed è rivolta alle bimbe e ai bimbi dai 6 agli 11 anni accompagnati. È richiesta la prenotazione tramite modulo reperibile sul sito web del museo. \nPer ulteriori informazioni è possibile telefonare al numero 0365.371474 (dal lunedì al venerdì\, dalle 9.00 alle 13.00\, il giovedì anche dalle 14.00 alle 17.00 e la domenica dalle 14.30 alle 18.30)\, oppure inviare una mail a info@museoarcheologicogavardo.it.
URL:https://sistemamuseale.cmvs.it/event/mavs-4-kids-il-tatuaggio-preistorico-alla-scoperta-della-moda-dei-tatuaggi-del-passato/
LOCATION:museo archeologico della valle sabbia\, Piazza S. Bernardino\, 5\, Gavardo\, BS\, 25085\, Italia
CATEGORIES:Attività Ludica,Laboratori,Visita Guidata
ATTACH;FMTTYPE=image/png:https://sistemamuseale.cmvs.it/wp-content/uploads/2025/01/2-FEBBRAIO-2025-MAVS.png
END:VEVENT
END:VCALENDAR