BEGIN:VCALENDAR
VERSION:2.0
PRODID:-//Sistema Museale - ECPv5.14.0.4//NONSGML v1.0//EN
CALSCALE:GREGORIAN
METHOD:PUBLISH
X-WR-CALNAME:Sistema Museale
X-ORIGINAL-URL:https://sistemamuseale.cmvs.it
X-WR-CALDESC:Events for Sistema Museale
REFRESH-INTERVAL;VALUE=DURATION:PT1H
X-Robots-Tag:noindex
X-PUBLISHED-TTL:PT1H
BEGIN:VTIMEZONE
TZID:Europe/Rome
BEGIN:DAYLIGHT
TZOFFSETFROM:+0100
TZOFFSETTO:+0200
TZNAME:CEST
DTSTART:20240331T010000
END:DAYLIGHT
BEGIN:STANDARD
TZOFFSETFROM:+0200
TZOFFSETTO:+0100
TZNAME:CET
DTSTART:20241027T010000
END:STANDARD
END:VTIMEZONE
BEGIN:VEVENT
DTSTART;TZID=Europe/Rome:20241013T150000
DTEND;TZID=Europe/Rome:20241013T170000
DTSTAMP:20260422T034733
CREATED:20241002T122542Z
LAST-MODIFIED:20241002T122542Z
UID:2558-1728831600-1728838800@sistemamuseale.cmvs.it
SUMMARY:FaMu - Dal bosco allo strumento: i legni del Lucone al MAVS
DESCRIPTION:Domenica 13 ottobre è la giornata di Famu – Famiglie al Museo\, che quest’anno ha come tema “un museo green”.\nPer l’occasione al MAVS di Gavardo scopriremo nel dettaglio la mostra dedicata ai legni del Lucone\, riflettendo sull’importanza delle risorse naturali per i nostri antenati\, sul loro utilizzo\, recupero e salvaguardia. Ci cimenteremo poi in un laboratorio creativo.\nPer bambine e bambini dai 6 ai 12 anni accompagnati da un adulto\, inizio attività ore 15.00. \nPer informazioni e prenotazioni:\n0365.371474 (martedì-venerdì 9:00-13:00\, il giovedì anche dalle 14:00 alle 17:00 e la domenica dalle 14:30 alle 18:30)\ninfo@museoarcheologicogavardo.it
URL:https://sistemamuseale.cmvs.it/event/famu-dal-bosco-allo-strumento-i-legni-del-lucone-al-mavs/
LOCATION:museo archeologico della valle sabbia\, Piazza S. Bernardino\, 5\, Gavardo\, BS\, 25085\, Italia
CATEGORIES:Attività Ludica,Laboratori,Manifestazione,Visita Guidata
ATTACH;FMTTYPE=image/jpeg:https://sistemamuseale.cmvs.it/wp-content/uploads/2024/10/Famu-2024-social-13-ottobre-mavs.jpg
END:VEVENT
END:VCALENDAR