BEGIN:VCALENDAR
VERSION:2.0
PRODID:-//Sistema Museale - ECPv5.14.0.4//NONSGML v1.0//EN
CALSCALE:GREGORIAN
METHOD:PUBLISH
X-WR-CALNAME:Sistema Museale
X-ORIGINAL-URL:https://sistemamuseale.cmvs.it
X-WR-CALDESC:Events for Sistema Museale
REFRESH-INTERVAL;VALUE=DURATION:PT1H
X-Robots-Tag:noindex
X-PUBLISHED-TTL:PT1H
BEGIN:VTIMEZONE
TZID:Europe/Rome
BEGIN:DAYLIGHT
TZOFFSETFROM:+0100
TZOFFSETTO:+0200
TZNAME:CEST
DTSTART:20230326T010000
END:DAYLIGHT
BEGIN:STANDARD
TZOFFSETFROM:+0200
TZOFFSETTO:+0100
TZNAME:CET
DTSTART:20231029T010000
END:STANDARD
END:VTIMEZONE
BEGIN:VEVENT
DTSTART;TZID=Europe/Rome:20230923T150000
DTEND;TZID=Europe/Rome:20231007T150000
DTSTAMP:20260424T102650
CREATED:20230921T065925Z
LAST-MODIFIED:20230921T070455Z
UID:1807-1695481200-1696690800@sistemamuseale.cmvs.it
SUMMARY:LABOR. Mostra fotografica "Scatti di Memoria"
DESCRIPTION:Dal 23 SETTEMBRE al 7 OTTOBRE 2023 presso la Cappella di via A. Bellini\, Roè Volciano \nMostra fotografica “Scatti di Memoria”. I volti e le storie di Roé Volciano nel passato. Un viaggio emozionante nella storia industriale del territorio. \nVisite guidate a cura di Arte con Noi: domenica 24 settembre e domenica 1° ottobre alle ore 15. \nPer informazioni contattare la biblioteca di Roè Volciano. \nNell’ambito della rassegna LABOR: percorsi ed esperienze inedite tra valle e lago\, progetto curato dal Sistema Museale di Valle Sabbia e il Sistema Bibliotecario Nord Est Bresciano\, aderente alla Rete Bibliotecaria Bresciana\, di cui è capofila la Provincia di Brescia\, e di numerosi altri soggetti.\nGli eventi\, legati dal tema comune del lavoro e degli antichi mestieri\, si terranno da luglio a dicembre 2023 in varie località e sedi della Valle Sabbia e del Lago di Garda.
URL:https://sistemamuseale.cmvs.it/event/mostra-fotografica-scatti-di-memoria/
LOCATION:Cappella del Cotonificio\, Via Arnoldo Bellini\, Roè Volciano\, 25070\, Italia
CATEGORIES:Mostra,Visita Guidata
ATTACH;FMTTYPE=image/jpeg:https://sistemamuseale.cmvs.it/wp-content/uploads/2023/09/scatti-di-memoria-locandina-mostra-labor-23-settembre.jpg
END:VEVENT
BEGIN:VEVENT
DTSTART;TZID=Europe/Rome:20230926T080000
DTEND;TZID=Europe/Rome:20231130T170000
DTSTAMP:20260424T102650
CREATED:20230921T072341Z
LAST-MODIFIED:20230921T072341Z
UID:1837-1695715200-1701363600@sistemamuseale.cmvs.it
SUMMARY:LABOR. Coltivare la cultura nei luoghi di lavoro di ieri e di oggi
DESCRIPTION:Dal 26 settembre al 30 novembre presso la Biblioteca Comunale di Vobarno \n\nMostra fotografica e pittorica sulla Ferriera con esposizione del fondo librario della Biblioteca del Dopolavoro “A. F. L. Falck” Ingresso libero negli orari di apertura della Biblioteca. \n\nMercoledì 14-18\, giovedì e venerdì 9-12.30\, sabato 9-12. \n\nPer maggiori informazioni: Biblioteca Comunale di Vobarno 3312351244 – biblioteca@comune.vobarno.bs.it
URL:https://sistemamuseale.cmvs.it/event/labor-coltivare-la-cultura-nei-luoghi-di-lavoro-di-ieri-e-di-oggi/
LOCATION:Biblioteca Comunale di Vobarno\, Piazza Marina Corradini\, 6\, Vobarno\, 25079
CATEGORIES:Mostra
ATTACH;FMTTYPE=image/png:https://sistemamuseale.cmvs.it/wp-content/uploads/2023/09/vobarno-mostra-26-settembre.png
END:VEVENT
BEGIN:VEVENT
DTSTART;TZID=Europe/Rome:20231001T143000
DTEND;TZID=Europe/Rome:20231001T210000
DTSTAMP:20260424T102650
CREATED:20230921T073409Z
LAST-MODIFIED:20230921T073409Z
UID:1849-1696170600-1696194000@sistemamuseale.cmvs.it
SUMMARY:LABOR. Passeggiata con visita guidata al Museo del Ferro
DESCRIPTION:ORE 14.30: ritrovo al parco al Vrenda\n\nPasseggiata dal parco e corso Torrente Vrenda con le seguenti tappe:\n1. Municipio mostra di opere in legno dello scultore Gianluigi Zambelli e dimostrazione dell’attività\n2. Museo del ferro dimostrazione del funzionamento del maglio con i volontari e visita guidata con intervento coop. LA MELAGRANA in mostra opere in ferro dello scultore Francesco Pozzi\n3. Ripresa del percorso costeggiando il Vrenda fino alla Ferriera Valsabbia\n4. Visione e presentazione del filmato sulla siderurgia e il lavoro oggi nella saletta della FERRIERA VALSABBIA\n5. Visita guidata alla chiesa di S. Maria Bambina a Cagnatico a cura della professoressa Lucia Pasini\n6. Ritorno al Museo del Ferro per apericena organizzato da ENOTECA PERBACCO E GASTRONOMIA CASA MIA con concerto di percussioni tenuto da Aldo Bicelli e Beppe Gioacchini evento musicale realizzato con strumenti e oggetti metallici presenti nel museo\n\nORE 21:00 (circa): conclusione attività\n\n\nInfo e prenotazioni\nBiblioteca di Odolo\n0365826376\n\n\n\nNell’ambito della rassegna LABOR: percorsi ed esperienze inedite tra valle e lago\, progetto curato dal Sistema Museale di Valle Sabbia e il Sistema Bibliotecario Nord Est Bresciano\, aderente alla Rete Bibliotecaria Bresciana\, di cui è capofila la Provincia di Brescia\, e di numerosi altri soggetti.\nGli eventi\, legati dal tema comune del lavoro e degli antichi mestieri\, si terranno da luglio a dicembre 2023 in varie località e sedi della Valle Sabbia e del Lago di Garda.
URL:https://sistemamuseale.cmvs.it/event/labor-passeggiata-con-visita-guidata-al-museo-del-ferro/
LOCATION:museo del ferro\, Via M. D'Azeglio\, 25076 Odolo BS\, Odolo\, Brescia\, 25076\, Italia
CATEGORIES:Apertura Straordinaria,Enogastronomia,Escursione,Mostra,Spettacolo,Visita Guidata
ATTACH;FMTTYPE=image/png:https://sistemamuseale.cmvs.it/wp-content/uploads/2023/09/odolo-1-ottobre-DEF.png
END:VEVENT
BEGIN:VEVENT
DTSTART;TZID=Europe/Rome:20231006T203000
DTEND;TZID=Europe/Rome:20231006T213000
DTSTAMP:20260424T102650
CREATED:20231004T130050Z
LAST-MODIFIED:20231004T130156Z
UID:1915-1696624200-1696627800@sistemamuseale.cmvs.it
SUMMARY:Conferenza "Le mostre: una bellezza per tutti"
DESCRIPTION:Nell’ambito della mostra Immagini Miracolose – Madonne e Santi taumaturghi in Valle Sabbia  \nConferenza di SE Monsignor Angelo Vincenzo Zani\, introdotto da don Dino Martinelli. \nAppuntamento venerdì 6 ottobre alle 20:30 presso la chiesa parrocchiale di San Michele Arcangelo a Sabbio Chiese. \nLa mostra Immagini Miracolose sarà visitabile fino al 15 ottobre negli orari di apertura della Rocca. Domenica 8 e 15 ottobre visite guidate gratuite alle ore 17:00. Per info: 3381495924
URL:https://sistemamuseale.cmvs.it/event/conferenza-le-mostre-una-bellezza-per-tutti/
LOCATION:Rocca di Sabbio Chiese\, Via Silvio Moretti 49\, Sabbio Chiese\, 25070\, Italia
CATEGORIES:Conferenza,Mostra
ATTACH;FMTTYPE=image/jpeg:https://sistemamuseale.cmvs.it/wp-content/uploads/2023/10/IMG-20231003-WA0000.jpg
END:VEVENT
END:VCALENDAR