BEGIN:VCALENDAR
VERSION:2.0
PRODID:-//Sistema Museale - ECPv5.14.0.4//NONSGML v1.0//EN
CALSCALE:GREGORIAN
METHOD:PUBLISH
X-WR-CALNAME:Sistema Museale
X-ORIGINAL-URL:https://sistemamuseale.cmvs.it
X-WR-CALDESC:Events for Sistema Museale
REFRESH-INTERVAL;VALUE=DURATION:PT1H
X-Robots-Tag:noindex
X-PUBLISHED-TTL:PT1H
BEGIN:VTIMEZONE
TZID:Europe/Rome
BEGIN:DAYLIGHT
TZOFFSETFROM:+0100
TZOFFSETTO:+0200
TZNAME:CEST
DTSTART:20230326T010000
END:DAYLIGHT
BEGIN:STANDARD
TZOFFSETFROM:+0200
TZOFFSETTO:+0100
TZNAME:CET
DTSTART:20231029T010000
END:STANDARD
END:VTIMEZONE
BEGIN:VEVENT
DTSTART;TZID=Europe/Rome:20230926T080000
DTEND;TZID=Europe/Rome:20231130T170000
DTSTAMP:20260424T115835
CREATED:20230921T072341Z
LAST-MODIFIED:20230921T072341Z
UID:1837-1695715200-1701363600@sistemamuseale.cmvs.it
SUMMARY:LABOR. Coltivare la cultura nei luoghi di lavoro di ieri e di oggi
DESCRIPTION:Dal 26 settembre al 30 novembre presso la Biblioteca Comunale di Vobarno \n\nMostra fotografica e pittorica sulla Ferriera con esposizione del fondo librario della Biblioteca del Dopolavoro “A. F. L. Falck” Ingresso libero negli orari di apertura della Biblioteca. \n\nMercoledì 14-18\, giovedì e venerdì 9-12.30\, sabato 9-12. \n\nPer maggiori informazioni: Biblioteca Comunale di Vobarno 3312351244 – biblioteca@comune.vobarno.bs.it
URL:https://sistemamuseale.cmvs.it/event/labor-coltivare-la-cultura-nei-luoghi-di-lavoro-di-ieri-e-di-oggi/
LOCATION:Biblioteca Comunale di Vobarno\, Piazza Marina Corradini\, 6\, Vobarno\, 25079
CATEGORIES:Mostra
ATTACH;FMTTYPE=image/png:https://sistemamuseale.cmvs.it/wp-content/uploads/2023/09/vobarno-mostra-26-settembre.png
END:VEVENT
END:VCALENDAR