BEGIN:VCALENDAR
VERSION:2.0
PRODID:-//Sistema Museale - ECPv5.14.0.4//NONSGML v1.0//EN
CALSCALE:GREGORIAN
METHOD:PUBLISH
X-WR-CALNAME:Sistema Museale
X-ORIGINAL-URL:https://sistemamuseale.cmvs.it
X-WR-CALDESC:Events for Sistema Museale
REFRESH-INTERVAL;VALUE=DURATION:PT1H
X-Robots-Tag:noindex
X-PUBLISHED-TTL:PT1H
BEGIN:VTIMEZONE
TZID:Europe/Rome
BEGIN:DAYLIGHT
TZOFFSETFROM:+0100
TZOFFSETTO:+0200
TZNAME:CEST
DTSTART:20220327T010000
END:DAYLIGHT
BEGIN:STANDARD
TZOFFSETFROM:+0200
TZOFFSETTO:+0100
TZNAME:CET
DTSTART:20221030T010000
END:STANDARD
BEGIN:DAYLIGHT
TZOFFSETFROM:+0100
TZOFFSETTO:+0200
TZNAME:CEST
DTSTART:20230326T010000
END:DAYLIGHT
BEGIN:STANDARD
TZOFFSETFROM:+0200
TZOFFSETTO:+0100
TZNAME:CET
DTSTART:20231029T010000
END:STANDARD
BEGIN:DAYLIGHT
TZOFFSETFROM:+0100
TZOFFSETTO:+0200
TZNAME:CEST
DTSTART:20240331T010000
END:DAYLIGHT
BEGIN:STANDARD
TZOFFSETFROM:+0200
TZOFFSETTO:+0100
TZNAME:CET
DTSTART:20241027T010000
END:STANDARD
END:VTIMEZONE
BEGIN:VEVENT
DTSTART;TZID=Europe/Rome:20220925T100000
DTEND;TZID=Europe/Rome:20220925T170000
DTSTAMP:20260422T003023
CREATED:20220916T101255Z
LAST-MODIFIED:20220916T101255Z
UID:1320-1664100000-1664125200@sistemamuseale.cmvs.it
SUMMARY:Giornate Europee del Patrimonio 2022
DESCRIPTION:Giornate Europee del Patrimonio 2022 \nDomenica 25 settembre – 10:00 Area archeologica del Lucone di Polpenazze \nTra natura e Archeologia: alla scoperta delle palafitte del Lucone di Polpenazze
URL:https://sistemamuseale.cmvs.it/event/giornate-europee-del-patrimonio-2022/
LOCATION:Area archeologica del Lucone di Polpenazze\, Via lago Lucone\, Polpenazze del Garda\, 25080\, Italia
CATEGORIES:Open Day
ATTACH;FMTTYPE=image/png:https://sistemamuseale.cmvs.it/wp-content/uploads/2022/09/image001.png
END:VEVENT
BEGIN:VEVENT
DTSTART;TZID=Europe/Rome:20221022T160000
DTEND;TZID=Europe/Rome:20221022T173000
DTSTAMP:20260422T003023
CREATED:20221017T090634Z
LAST-MODIFIED:20221017T090634Z
UID:1369-1666454400-1666459800@sistemamuseale.cmvs.it
SUMMARY:Al museo con la scuola
DESCRIPTION:Open day di presentazione dell’offerta didattica del Mavs per gli insegnanti\, con visite ad alcune sale del museo ed alle postazioni per le dimostrazioni laboratoriali \nE’ gradita la prenotazione entro venerdì 21 ottobre 2022 \n  \nInfo: 0365.371474 (lunedì-venerdì 9.30-12.30)     info@museoarcheologicogavardo.it \n 
URL:https://sistemamuseale.cmvs.it/event/al-museo-con-la-scuola/
LOCATION:Gavardo
CATEGORIES:Open Day
ATTACH;FMTTYPE=image/png:https://sistemamuseale.cmvs.it/wp-content/uploads/2022/10/museo-gavardo_OPEN-DAY_web.png
END:VEVENT
BEGIN:VEVENT
DTSTART;TZID=Europe/Rome:20231008T103000
DTEND;TZID=Europe/Rome:20231008T170000
DTSTAMP:20260422T003023
CREATED:20231004T131445Z
LAST-MODIFIED:20231004T131445Z
UID:1924-1696761000-1696784400@sistemamuseale.cmvs.it
SUMMARY:Una pianta per la Memoria al Museo dei Reperti Bellici
DESCRIPTION:Anche quest’anno viene riproposta l’iniziativa UNA PIANTA PER LA MEMORIA … non è un ritrovato miracoloso delle ultime ricerche scientifiche\, ma un’iniziativa del Museo Reperti Bellici per la raccolta di fondi da investire nella gestione e manutenzione del museo e delle postazioni sul Monte Stino… per non dimenticare! \nVi aspettiamo Domenica 8 ottobre 2023 dalle ore 10.30 alle ore 12.00 e dalle ore 14.30 alle ore 17.00 per Apertura straordinaria del museo \nTante piante che con una piccola offerta verranno a casa con te! \nPer informazioni: Comune di Capovalle museo@comune.capovalle.bs.it
URL:https://sistemamuseale.cmvs.it/event/una-pianta-per-la-memoria-al-museo-dei-reperti-bellici/
LOCATION:Museo dei reperti bellici – Capovalle\, Via XXIV Maggio\, 9\, Capovalle\, BS\, 25070\, Italia
CATEGORIES:Apertura Straordinaria,Open Day
ATTACH;FMTTYPE=image/jpeg:https://sistemamuseale.cmvs.it/wp-content/uploads/2023/10/WhatsApp-Image-2023-10-03-at-12.26.09.jpeg
END:VEVENT
BEGIN:VEVENT
DTSTART;TZID=Europe/Rome:20240802T150000
DTEND;TZID=Europe/Rome:20240802T170000
DTSTAMP:20260422T003023
CREATED:20240611T095801Z
LAST-MODIFIED:20240719T093858Z
UID:2250-1722610800-1722618000@sistemamuseale.cmvs.it
SUMMARY:A scavo aperto
DESCRIPTION:DAL 2 AL 30 AGOSTO\, OGNI VENERDI’ – SITO DEL LUCONE DI POLPENAZZE\nh. 15.00\nA SCAVO APERTO\nVisita guidata allo scavo archeologico e a seguire laboratorio di scavo per i più piccoli \nAttività gratuita
URL:https://sistemamuseale.cmvs.it/event/a-scavo-aperto/
LOCATION:Area archeologica del Lucone di Polpenazze\, Via lago Lucone\, Polpenazze del Garda\, 25080\, Italia
CATEGORIES:Attività Ludica,Open Day,Visita Guidata
ATTACH;FMTTYPE=image/jpeg:https://sistemamuseale.cmvs.it/wp-content/uploads/2024/06/A-SCAVO-APERTO.jpg
END:VEVENT
BEGIN:VEVENT
DTSTART;TZID=Europe/Rome:20240809T150000
DTEND;TZID=Europe/Rome:20240809T170000
DTSTAMP:20260422T003023
CREATED:20240611T095852Z
LAST-MODIFIED:20240719T093807Z
UID:2253-1723215600-1723222800@sistemamuseale.cmvs.it
SUMMARY:A scavo aperto
DESCRIPTION:DAL 2 AL 30 AGOSTO\, OGNI VENERDI’ – SITO DEL LUCONE DI POLPENAZZE\nh. 15.00\nA SCAVO APERTO\nVisita guidata allo scavo archeologico e a seguire laboratorio di scavo per i più piccoli \nAttività gratuita
URL:https://sistemamuseale.cmvs.it/event/a-scavo-aperto-2/
LOCATION:Area archeologica del Lucone di Polpenazze\, Via lago Lucone\, Polpenazze del Garda\, 25080\, Italia
CATEGORIES:Attività Ludica,Open Day,Visita Guidata
ATTACH;FMTTYPE=image/jpeg:https://sistemamuseale.cmvs.it/wp-content/uploads/2024/06/A-SCAVO-APERTO.jpg
END:VEVENT
BEGIN:VEVENT
DTSTART;TZID=Europe/Rome:20240816T150000
DTEND;TZID=Europe/Rome:20240816T170000
DTSTAMP:20260422T003023
CREATED:20240611T095941Z
LAST-MODIFIED:20240719T093242Z
UID:2255-1723820400-1723827600@sistemamuseale.cmvs.it
SUMMARY:A scavo aperto
DESCRIPTION:DAL 2 AL 30 AGOSTO\, OGNI VENERDI’ – SITO DEL LUCONE DI POLPENAZZE\nh. 15.00\nA SCAVO APERTO\nVisita guidata allo scavo archeologico e a seguire laboratorio di scavo per i più piccoli \nAttività gratuita
URL:https://sistemamuseale.cmvs.it/event/a-scavo-aperto-3/
LOCATION:Area archeologica del Lucone di Polpenazze\, Via lago Lucone\, Polpenazze del Garda\, 25080\, Italia
CATEGORIES:Open Day,Visita Guidata
ATTACH;FMTTYPE=image/jpeg:https://sistemamuseale.cmvs.it/wp-content/uploads/2024/06/A-SCAVO-APERTO.jpg
END:VEVENT
BEGIN:VEVENT
DTSTART;TZID=Europe/Rome:20240823T150000
DTEND;TZID=Europe/Rome:20240823T170000
DTSTAMP:20260422T003023
CREATED:20240611T100022Z
LAST-MODIFIED:20240719T093152Z
UID:2257-1724425200-1724432400@sistemamuseale.cmvs.it
SUMMARY:A scavo aperto
DESCRIPTION:DAL 2 AL 30 AGOSTO\, OGNI VENERDI’ – SITO DEL LUCONE DI POLPENAZZE\nh. 15.00\nA SCAVO APERTO\nVisita guidata allo scavo archeologico e a seguire laboratorio di scavo per i più piccoli \nAttività gratuita
URL:https://sistemamuseale.cmvs.it/event/a-scavo-aperto-4/
LOCATION:Area archeologica del Lucone di Polpenazze\, Via lago Lucone\, Polpenazze del Garda\, 25080\, Italia
CATEGORIES:Open Day,Visita Guidata
ATTACH;FMTTYPE=image/jpeg:https://sistemamuseale.cmvs.it/wp-content/uploads/2024/06/A-SCAVO-APERTO.jpg
END:VEVENT
BEGIN:VEVENT
DTSTART;TZID=Europe/Rome:20240830T150000
DTEND;TZID=Europe/Rome:20240830T170000
DTSTAMP:20260422T003023
CREATED:20240611T100106Z
LAST-MODIFIED:20240719T093117Z
UID:2259-1725030000-1725037200@sistemamuseale.cmvs.it
SUMMARY:A scavo aperto
DESCRIPTION:DAL 2 AL 30 AGOSTO\, OGNI VENERDI’ – SITO DEL LUCONE DI POLPENAZZE\nh. 15.00\nA SCAVO APERTO\nVisita guidata allo scavo archeologico e a seguire laboratorio di scavo per i più piccoli \nAttività gratuita
URL:https://sistemamuseale.cmvs.it/event/a-scavo-aperto-5/
LOCATION:Area archeologica del Lucone di Polpenazze\, Via lago Lucone\, Polpenazze del Garda\, 25080\, Italia
CATEGORIES:Open Day,Visita Guidata
ATTACH;FMTTYPE=image/jpeg:https://sistemamuseale.cmvs.it/wp-content/uploads/2024/06/A-SCAVO-APERTO.jpg
END:VEVENT
END:VCALENDAR