BEGIN:VCALENDAR
VERSION:2.0
PRODID:-//Sistema Museale - ECPv5.14.0.4//NONSGML v1.0//EN
CALSCALE:GREGORIAN
METHOD:PUBLISH
X-WR-CALNAME:Sistema Museale
X-ORIGINAL-URL:https://sistemamuseale.cmvs.it
X-WR-CALDESC:Events for Sistema Museale
REFRESH-INTERVAL;VALUE=DURATION:PT1H
X-Robots-Tag:noindex
X-PUBLISHED-TTL:PT1H
BEGIN:VTIMEZONE
TZID:Europe/Rome
BEGIN:DAYLIGHT
TZOFFSETFROM:+0100
TZOFFSETTO:+0200
TZNAME:CEST
DTSTART:20230326T010000
END:DAYLIGHT
BEGIN:STANDARD
TZOFFSETFROM:+0200
TZOFFSETTO:+0100
TZNAME:CET
DTSTART:20231029T010000
END:STANDARD
END:VTIMEZONE
BEGIN:VEVENT
DTSTART;TZID=Europe/Rome:20231008T103000
DTEND;TZID=Europe/Rome:20231008T170000
DTSTAMP:20260423T153836
CREATED:20231004T131445Z
LAST-MODIFIED:20231004T131445Z
UID:1924-1696761000-1696784400@sistemamuseale.cmvs.it
SUMMARY:Una pianta per la Memoria al Museo dei Reperti Bellici
DESCRIPTION:Anche quest’anno viene riproposta l’iniziativa UNA PIANTA PER LA MEMORIA … non è un ritrovato miracoloso delle ultime ricerche scientifiche\, ma un’iniziativa del Museo Reperti Bellici per la raccolta di fondi da investire nella gestione e manutenzione del museo e delle postazioni sul Monte Stino… per non dimenticare! \nVi aspettiamo Domenica 8 ottobre 2023 dalle ore 10.30 alle ore 12.00 e dalle ore 14.30 alle ore 17.00 per Apertura straordinaria del museo \nTante piante che con una piccola offerta verranno a casa con te! \nPer informazioni: Comune di Capovalle museo@comune.capovalle.bs.it
URL:https://sistemamuseale.cmvs.it/event/una-pianta-per-la-memoria-al-museo-dei-reperti-bellici/
LOCATION:Museo dei reperti bellici – Capovalle\, Via XXIV Maggio\, 9\, Capovalle\, BS\, 25070\, Italia
CATEGORIES:Apertura Straordinaria,Open Day
ATTACH;FMTTYPE=image/jpeg:https://sistemamuseale.cmvs.it/wp-content/uploads/2023/10/WhatsApp-Image-2023-10-03-at-12.26.09.jpeg
END:VEVENT
END:VCALENDAR