BEGIN:VCALENDAR
VERSION:2.0
PRODID:-//Sistema Museale - ECPv5.14.0.4//NONSGML v1.0//EN
CALSCALE:GREGORIAN
METHOD:PUBLISH
X-WR-CALNAME:Sistema Museale
X-ORIGINAL-URL:https://sistemamuseale.cmvs.it
X-WR-CALDESC:Events for Sistema Museale
REFRESH-INTERVAL;VALUE=DURATION:PT1H
X-Robots-Tag:noindex
X-PUBLISHED-TTL:PT1H
BEGIN:VTIMEZONE
TZID:Europe/Rome
BEGIN:DAYLIGHT
TZOFFSETFROM:+0100
TZOFFSETTO:+0200
TZNAME:CEST
DTSTART:20250330T010000
END:DAYLIGHT
BEGIN:STANDARD
TZOFFSETFROM:+0200
TZOFFSETTO:+0100
TZNAME:CET
DTSTART:20251026T010000
END:STANDARD
END:VTIMEZONE
BEGIN:VEVENT
DTSTART;TZID=Europe/Rome:20250702T100000
DTEND;TZID=Europe/Rome:20250702T113000
DTSTAMP:20260425T014832
CREATED:20250604T082639Z
LAST-MODIFIED:20250604T082639Z
UID:2828-1751450400-1751455800@sistemamuseale.cmvs.it
SUMMARY:Un mercoledì da Museo 2025
DESCRIPTION:Estate al MAVS!\nRitornano i “Mercoledì da museo” per i piccoli archeologi ed archeologhe.\nLaboratori e giochi didattici ogni mercoledì\, in concomitanza con il mercato settimanale di Gavardo. \n11-18-25 giugno // 2-9-16-23 luglio\, dalle ore 10:00 alle 11:30\nPer bimbi e bimbe dai 6 agli 11 anni\, non è necessaria la prenotazione\nCosto: 4 €/cad. (abbonamento per 3 ingressi: 10 €; abbonamento a 5 ingressi: 15 €) \nPer informazioni contattare il Museo.\nAttività in collaborazione con La Melagrana
URL:https://sistemamuseale.cmvs.it/event/un-mercoledi-da-museo-2025-3/
LOCATION:museo archeologico della valle sabbia\, Piazza S. Bernardino\, 5\, Gavardo\, BS\, 25085\, Italia
CATEGORIES:Attività Ludica,Laboratori
ATTACH;FMTTYPE=image/png:https://sistemamuseale.cmvs.it/wp-content/uploads/2025/06/UN-MERCOLEDi-DA-MUSEO_2025.png
END:VEVENT
BEGIN:VEVENT
DTSTART;TZID=Europe/Rome:20250706T150000
DTEND;TZID=Europe/Rome:20250706T170000
DTSTAMP:20260425T014832
CREATED:20250416T092853Z
LAST-MODIFIED:20250416T092853Z
UID:2758-1751814000-1751821200@sistemamuseale.cmvs.it
SUMMARY:MAVS 4 Kids. Ceramica al Lucone
DESCRIPTION:Visita e laboratorio creativo al sito archeologico del Lucone di Polpenazze.
URL:https://sistemamuseale.cmvs.it/event/mavs-4-kids-ceramica-al-lucone/
LOCATION:Area archeologica del Lucone di Polpenazze\, Via lago Lucone\, Polpenazze del Garda\, 25080\, Italia
CATEGORIES:Attività Ludica,Escursione,Laboratori,Visita Guidata
ATTACH;FMTTYPE=image/jpeg:https://sistemamuseale.cmvs.it/wp-content/uploads/2025/04/IMG_1761-scaled.jpg
END:VEVENT
BEGIN:VEVENT
DTSTART;TZID=Europe/Rome:20250709T100000
DTEND;TZID=Europe/Rome:20250709T113000
DTSTAMP:20260425T014832
CREATED:20250604T082748Z
LAST-MODIFIED:20250604T082748Z
UID:2829-1752055200-1752060600@sistemamuseale.cmvs.it
SUMMARY:Un mercoledì da Museo 2025
DESCRIPTION:Estate al MAVS!\nRitornano i “Mercoledì da museo” per i piccoli archeologi ed archeologhe.\nLaboratori e giochi didattici ogni mercoledì\, in concomitanza con il mercato settimanale di Gavardo. \n11-18-25 giugno // 2-9-16-23 luglio\, dalle ore 10:00 alle 11:30\nPer bimbi e bimbe dai 6 agli 11 anni\, non è necessaria la prenotazione\nCosto: 4 €/cad. (abbonamento per 3 ingressi: 10 €; abbonamento a 5 ingressi: 15 €) \nPer informazioni contattare il Museo.\nAttività in collaborazione con La Melagrana
URL:https://sistemamuseale.cmvs.it/event/un-mercoledi-da-museo-2025-4/
LOCATION:museo archeologico della valle sabbia\, Piazza S. Bernardino\, 5\, Gavardo\, BS\, 25085\, Italia
CATEGORIES:Attività Ludica,Laboratori
ATTACH;FMTTYPE=image/png:https://sistemamuseale.cmvs.it/wp-content/uploads/2025/06/UN-MERCOLEDi-DA-MUSEO_2025.png
END:VEVENT
BEGIN:VEVENT
DTSTART;TZID=Europe/Rome:20250712T103000
DTEND;TZID=Europe/Rome:20250712T123000
DTSTAMP:20260425T014832
CREATED:20250701T123030Z
LAST-MODIFIED:20250707T064750Z
UID:2882-1752316200-1752323400@sistemamuseale.cmvs.it
SUMMARY:Museums & More in Valle Sabbia. Armonie tra Cielo e Terra
DESCRIPTION:Passeggiata culturale a Sant’Antonio in Caster a cura della prof.ssa Federica Bolpagni\, storica dell’arte. \nInformazioni nella locandina allegata\, prenotazione obbligatoria entro il giorno precedente all’evento\, compilando questo modulo.
URL:https://sistemamuseale.cmvs.it/event/museums-more-in-valle-sabbia-armonie-tra-cielo-e-terra/
LOCATION:Chiesa di Sant’Antonio in Caster\, Località Sant'Antonio\, Anfo\, 25070\, Italy
CATEGORIES:Apertura Straordinaria,Visita Guidata
ATTACH;FMTTYPE=image/png:https://sistemamuseale.cmvs.it/wp-content/uploads/2025/07/SantAntonio-12-luglio-MM-1.png
ORGANIZER;CN="Sistema%20Museale%20Valle%20Sabbia":MAILTO:sistemamuseale@cmvs.it
END:VEVENT
BEGIN:VEVENT
DTSTART;TZID=Europe/Rome:20250713T100000
DTEND;TZID=Europe/Rome:20250713T153000
DTSTAMP:20260425T014832
CREATED:20250606T072950Z
LAST-MODIFIED:20250606T072950Z
UID:2859-1752400800-1752420600@sistemamuseale.cmvs.it
SUMMARY:Museums & More in Valle Sabbia. Passeggiate culturali tra storia e paesaggio
DESCRIPTION:Passeggiate culturali tra storia e paesaggio: trincee\, appostamenti militari e scorci lacustri\nDiverse date: tutti i dettagli nella locandina\nLuogo di ritrovo: Monte Stino\, Capovalle\na cura del Museo dei Reperti Bellici di Capovalle\, info e prenotazioni: 3383057189
URL:https://sistemamuseale.cmvs.it/event/museums-more-in-valle-sabbia-passeggiate-culturali-tra-storia-e-paesaggio-2/
LOCATION:Museo dei reperti bellici – Capovalle\, Via XXIV Maggio\, 9\, Capovalle\, BS\, 25070\, Italia
CATEGORIES:Escursione,Visita Guidata
ATTACH;FMTTYPE=image/jpeg:https://sistemamuseale.cmvs.it/wp-content/uploads/2025/06/matteo-OK-scaled.jpg
ORGANIZER;CN="Sistema%20Museale%20Valle%20Sabbia":MAILTO:sistemamuseale@cmvs.it
END:VEVENT
BEGIN:VEVENT
DTSTART;TZID=Europe/Rome:20250716T100000
DTEND;TZID=Europe/Rome:20250716T113000
DTSTAMP:20260425T014832
CREATED:20250604T083025Z
LAST-MODIFIED:20250604T083025Z
UID:2832-1752660000-1752665400@sistemamuseale.cmvs.it
SUMMARY:Un mercoledì da Museo 2025
DESCRIPTION:Estate al MAVS!\nRitornano i “Mercoledì da museo” per i piccoli archeologi ed archeologhe.\nLaboratori e giochi didattici ogni mercoledì\, in concomitanza con il mercato settimanale di Gavardo. \n11-18-25 giugno // 2-9-16-23 luglio\, dalle ore 10:00 alle 11:30\nPer bimbi e bimbe dai 6 agli 11 anni\, non è necessaria la prenotazione\nCosto: 4 €/cad. (abbonamento per 3 ingressi: 10 €; abbonamento a 5 ingressi: 15 €) \nPer informazioni contattare il Museo.\nAttività in collaborazione con La Melagrana
URL:https://sistemamuseale.cmvs.it/event/un-mercoledi-da-museo-2025-5/
LOCATION:museo archeologico della valle sabbia\, Piazza S. Bernardino\, 5\, Gavardo\, BS\, 25085\, Italia
CATEGORIES:Attività Ludica,Laboratori
ATTACH;FMTTYPE=image/png:https://sistemamuseale.cmvs.it/wp-content/uploads/2025/06/UN-MERCOLEDi-DA-MUSEO_2025.png
END:VEVENT
BEGIN:VEVENT
DTSTART;TZID=Europe/Rome:20250716T143000
DTEND;TZID=Europe/Rome:20250716T163000
DTSTAMP:20260425T014832
CREATED:20250701T123431Z
LAST-MODIFIED:20250701T123431Z
UID:2886-1752676200-1752683400@sistemamuseale.cmvs.it
SUMMARY:Museums & More in Valle Sabbia. Laboratorio Arte e Natura
DESCRIPTION:Laboratorio creativo gratuito per adulti e bambini – Parco della Rocca d’Anfo\, 16 luglio ore 14:30\nLasciati ispirare dagli elementi della natura durante la passeggiata lungo le mura della Rocca d’Anfo: una volta raccolti questi oggetti si trasformeranno nella tua opera d’arte personale! \nAttività artistica gratuita aperta a tutti\, a cura di Nadia Panelli\, in occasione della mostra pittorica di Lorenzo Bacchetti La Valle e il Lago. I suoi elementi ospitata in Rocca d’Anfo 12-20 luglio 2025. \nDurata 2 ore circa.\nNon dimenticare scarpe comode\, cappellino e acqua.\nRitrovo alle 14:30 presso la Caserma Zanardelli\, Rocca d’Anfo. \nI bambini dovranno obbligatoriamente essere accompagnati da un adulto per tutta la durata delle attività. \nPrenotazioni aperte fino a 24 ore prima dell’evento compilando questo modulo. 
URL:https://sistemamuseale.cmvs.it/event/museums-more-in-valle-sabbia-laboratorio-arte-e-natura/
LOCATION:Parco della Rocca D’Anfo\, SS 237 c/o Rocca d'Anfo\, Anfo\, 25080\, Italia
CATEGORIES:Attività Ludica,Escursione,Incontro con l'autore,Laboratori
ATTACH;FMTTYPE=image/png:https://sistemamuseale.cmvs.it/wp-content/uploads/2025/07/Anfo-16-luglio-MM-Arte-e-Natura.png
ORGANIZER;CN="Sistema%20Museale%20Valle%20Sabbia":MAILTO:sistemamuseale@cmvs.it
END:VEVENT
BEGIN:VEVENT
DTSTART;TZID=Europe/Rome:20250718T150000
DTEND;TZID=Europe/Rome:20250718T163000
DTSTAMP:20260425T014832
CREATED:20250707T070723Z
LAST-MODIFIED:20250707T070838Z
UID:2897-1752850800-1752856200@sistemamuseale.cmvs.it
SUMMARY:Museums & More. Archaeological Melodies: scopriamo i ritmi dell’antichità
DESCRIPTION:Pile-dwellings\, pottery\, bones..sei curioso di scoprire il significato di queste parole? Ti aspettiamo per un divertente percorso in inglese tra giochi e attività per scoprire i ritmi della vita del passato! \nLuogo: Museo Archeologico della Vallesabbia\, Gavardo\nPer bambini e ragazzi dai 7 ai 12 anni\nAttività gratuita\, prenotazione compilando questo modulo. Le prenotazioni resteranno aperte fino a 24 ore prima dell’evento.\nA cura della Coop. La Melagrana
URL:https://sistemamuseale.cmvs.it/event/museums-more-archaeological-melodies-scopriamo-i-ritmi-dellantichita/
LOCATION:museo archeologico della valle sabbia\, Piazza S. Bernardino\, 5\, Gavardo\, BS\, 25085\, Italia
CATEGORIES:Attività Ludica,Laboratori
ATTACH;FMTTYPE=image/png:https://sistemamuseale.cmvs.it/wp-content/uploads/2025/07/MM-MAVS-18-luglio.png
ORGANIZER;CN="Sistema%20Museale%20Valle%20Sabbia":MAILTO:sistemamuseale@cmvs.it
END:VEVENT
BEGIN:VEVENT
DTSTART;TZID=Europe/Rome:20250719T150000
DTEND;TZID=Europe/Rome:20250719T173000
DTSTAMP:20260425T014832
CREATED:20250709T102600Z
LAST-MODIFIED:20250709T102600Z
UID:2908-1752937200-1752946200@sistemamuseale.cmvs.it
SUMMARY:Museums & More in Valle Sabbia. Il Suono del Rame a Lavenone
DESCRIPTION:Visita guidata gratuita a cura di Cinzia Pasini ArteconNoi\, con Andrea Galvani\, storico. Ritrovo presso la Chiesa di San Bartolomeo Apostolo di Lavenone (via Chiesa\, 8) alle ore 15:00. \nLa chiesa è stata costruita alla fine del XVIII secolo e contiene svariate opere\, in evidenza soprattutto le splendide soase lignee tipiche dell’arte valsabbina che contendono l’attenzione ai dipinti che incorniciano\, oltre ad opere provenienti da altre piccole chiese del territorio databili dal XVI secolo in poi. \nDopo la visita alla chiesa vi sarà una passeggiata nel borgo\, che ancora conserva la tipica architettura locale\, fino a raggiungere la fucina utilizzata in origine per il ferro e poi convertita alla produzione di paioli in rame\, Lavenone infatti fino alla metà del XVIII secolo fu uno dei centri siderurgici più attivi nel bresciano. \nDurata 2\,5 ore circa\nNon dimenticare scarpe comode (ginnastica o trekking)\, acqua e un cappellino. \nPer informazioni puoi scrivere su whatsapp a +39 3456192700 (da lunedì a venerdì dalle 9.00 alle 16.00).\nLe prenotazioni\, tramite modulo online a questo indirizzo\, chiuderanno venerdì 18 luglio alle 12:00.
URL:https://sistemamuseale.cmvs.it/event/museums-more-in-valle-sabbia-il-suono-del-rame-a-lavenone/
LOCATION:Lavenone\, Via Chiesa 8\, Lavenone\, 25074\, Italy
CATEGORIES:Apertura Straordinaria,Escursione,Visita Guidata
ATTACH;FMTTYPE=image/png:https://sistemamuseale.cmvs.it/wp-content/uploads/2025/07/MM-Lavenone-visita-guidata-19-luglio-locandina.png
ORGANIZER;CN="Sistema%20Museale%20Valle%20Sabbia":MAILTO:sistemamuseale@cmvs.it
END:VEVENT
BEGIN:VEVENT
DTSTART;TZID=Europe/Rome:20250723T100000
DTEND;TZID=Europe/Rome:20250723T113000
DTSTAMP:20260425T014832
CREATED:20250604T083140Z
LAST-MODIFIED:20250604T083140Z
UID:2834-1753264800-1753270200@sistemamuseale.cmvs.it
SUMMARY:Un mercoledì da Museo 2025
DESCRIPTION:Estate al MAVS!\nRitornano i “Mercoledì da museo” per i piccoli archeologi ed archeologhe.\nLaboratori e giochi didattici ogni mercoledì\, in concomitanza con il mercato settimanale di Gavardo. \n11-18-25 giugno // 2-9-16-23 luglio\, dalle ore 10:00 alle 11:30\nPer bimbi e bimbe dai 6 agli 11 anni\, non è necessaria la prenotazione\nCosto: 4 €/cad. (abbonamento per 3 ingressi: 10 €; abbonamento a 5 ingressi: 15 €) \nPer informazioni contattare il Museo.\nAttività in collaborazione con La Melagrana
URL:https://sistemamuseale.cmvs.it/event/un-mercoledi-da-museo-2025-6/
LOCATION:museo archeologico della valle sabbia\, Piazza S. Bernardino\, 5\, Gavardo\, BS\, 25085\, Italia
CATEGORIES:Attività Ludica,Laboratori
ATTACH;FMTTYPE=image/png:https://sistemamuseale.cmvs.it/wp-content/uploads/2025/06/UN-MERCOLEDi-DA-MUSEO_2025.png
END:VEVENT
BEGIN:VEVENT
DTSTART;TZID=Europe/Rome:20250723T203000
DTEND;TZID=Europe/Rome:20250723T220000
DTSTAMP:20260425T014832
CREATED:20250416T090557Z
LAST-MODIFIED:20250416T090557Z
UID:2740-1753302600-1753308000@sistemamuseale.cmvs.it
SUMMARY:Apertura Speciale e visita guidata Museo della Resistenza e del Folklore Valsabbino
DESCRIPTION:Visita guidata bilingue italiano/inglese dalle 20:30\, per prenotazioni contattare direttamente il Museo. \nVi invitiamo a scoprire questo importante patrimonio culturale che racconta la storia della resistenza locale e le tradizioni folkloristiche della Vallesabbia. \nPer maggiori informazioni e contatti\, visitate la pagina: https://sistemamuseale.cmvs.it/pertica-bassa/
URL:https://sistemamuseale.cmvs.it/event/apertura-speciale-e-visita-guidata-museo-della-resistenza-e-del-folklore-valsabbino/
LOCATION:Museo della Resistenza e del Folklore Valsabbino\, Via Roma 7\, Forno d'Ono\, 25078\, Italia
CATEGORIES:Apertura Straordinaria,Visita Guidata
ATTACH;FMTTYPE=image/jpeg:https://sistemamuseale.cmvs.it/wp-content/uploads/2023/09/MdRritratti1.jpg
END:VEVENT
BEGIN:VEVENT
DTSTART;TZID=Europe/Rome:20250725T170000
DTEND;TZID=Europe/Rome:20250725T190000
DTSTAMP:20260425T014832
CREATED:20250716T101218Z
LAST-MODIFIED:20250716T102039Z
UID:2920-1753462800-1753470000@sistemamuseale.cmvs.it
SUMMARY:Museums & More in Valle Sabbia. Fucine tra ieri e oggi
DESCRIPTION:Escursione gratuita nel Parco delle Fucine\, Casto e alla Fucina Zanetti\, accompagnati da Giovanni Freddi\, guida ambientale escursionistica. \nL’attività\, che durerà circa due ore\, inizierà dal Parco delle Fucine. La visita proseguirà poi con il trasferimento in auto alla storica Fucina Zanetti di Casto\, dove potremo ammirare da vicino i macchinari e le tecniche utilizzate per la lavorazione del ferro. Un’esperienza unica che unisce natura\, storia e tradizione.\nNon dimenticare: scarpe da ginnastica o trekking\, acqua\, cappellino e una felpa. \nRitrovo: Parco delle Fucine\, via Ferrate di Casto ore 17:00 venerdì 25 luglio\nPer info: solo whatsapp 345 6192700 (lun-gio 9-16\, venerdì fino alle 12:30) \nAttività gratuita\, posti limitati\, assicurazione medica inclusa per tutti i partecipanti regolarmente iscritti tramite questo modulo – prenotazione online aperta fino a 24 ore prima dell’evento.
URL:https://sistemamuseale.cmvs.it/event/museums-more-in-valle-sabbia-fucine-tra-ieri-e-oggi/
LOCATION:Fucina Zanetti\, Via Roma 37\, Casto\, Brescia\, 25070\, Italia
CATEGORIES:Escursione,Visita Guidata
ATTACH;FMTTYPE=image/png:https://sistemamuseale.cmvs.it/wp-content/uploads/2025/07/MM-fucine-casto-25-luglio-locandina-def.png
ORGANIZER;CN="Sistema%20Museale%20Valle%20Sabbia":MAILTO:sistemamuseale@cmvs.it
END:VEVENT
BEGIN:VEVENT
DTSTART;TZID=Europe/Rome:20250727T103000
DTEND;TZID=Europe/Rome:20250727T123000
DTSTAMP:20260425T014832
CREATED:20250606T074029Z
LAST-MODIFIED:20250606T074029Z
UID:2866-1753612200-1753619400@sistemamuseale.cmvs.it
SUMMARY:Museums & More in Valle Sabbia. Passeggiate culturali tra storia e paesaggio
DESCRIPTION:Passeggiate culturali tra storia e paesaggio: trincee\, appostamenti militari e scorci lacustri\nDiverse date: tutti i dettagli nella locandina\nLuogo di ritrovo: Monte Stino\, Capovalle\na cura del Museo dei Reperti Bellici di Capovalle\, info e prenotazioni: 3383057189
URL:https://sistemamuseale.cmvs.it/event/museums-more-in-valle-sabbia-passeggiate-culturali-tra-storia-e-paesaggio-5/
LOCATION:Museo dei reperti bellici – Capovalle\, Via XXIV Maggio\, 9\, Capovalle\, BS\, 25070\, Italia
CATEGORIES:Escursione,Visita Guidata
ATTACH;FMTTYPE=image/jpeg:https://sistemamuseale.cmvs.it/wp-content/uploads/2025/06/michelangelo-OK-scaled.jpg
ORGANIZER;CN="Sistema%20Museale%20Valle%20Sabbia":MAILTO:sistemamuseale@cmvs.it
END:VEVENT
END:VCALENDAR