BEGIN:VCALENDAR
VERSION:2.0
PRODID:-//Sistema Museale - ECPv5.14.0.4//NONSGML v1.0//EN
CALSCALE:GREGORIAN
METHOD:PUBLISH
X-WR-CALNAME:Sistema Museale
X-ORIGINAL-URL:https://sistemamuseale.cmvs.it
X-WR-CALDESC:Events for Sistema Museale
REFRESH-INTERVAL;VALUE=DURATION:PT1H
X-Robots-Tag:noindex
X-PUBLISHED-TTL:PT1H
BEGIN:VTIMEZONE
TZID:Europe/Rome
BEGIN:DAYLIGHT
TZOFFSETFROM:+0100
TZOFFSETTO:+0200
TZNAME:CEST
DTSTART:20250330T010000
END:DAYLIGHT
BEGIN:STANDARD
TZOFFSETFROM:+0200
TZOFFSETTO:+0100
TZNAME:CET
DTSTART:20251026T010000
END:STANDARD
END:VTIMEZONE
BEGIN:VEVENT
DTSTART;VALUE=DATE:20251012
DTEND;VALUE=DATE:20251013
DTSTAMP:20260424T211332
CREATED:20251003T075535Z
LAST-MODIFIED:20251003T075535Z
UID:3072-1760227200-1760313599@sistemamuseale.cmvs.it
SUMMARY:Domenica di Carta 2025 all'Archivio di Bagolino
DESCRIPTION:Il 12 ottobre ricorre l’edizione 2025 di Domenica di Carta: vi aspetta un’apertura straordinaria dell’Archivio Storico di Bagolino. Dalle 10 alle 12 e dalle 15 alle 17 i visitatori potranno ammirare registri e documenti inediti\, scoprendo curiosità e storie che raccontano la vita della comunità. \nUn appuntamento imperdibile per chi ama la memoria storica e vuole conoscere da vicino il patrimonio archivistico locale.\nVia A. Lombardi\, sede AVIS – Bagolino\nInfo: biblioteca@comune.bagolino.bs.it
URL:https://sistemamuseale.cmvs.it/event/domenica-di-carta-2025-allarchivio-di-bagolino/
LOCATION:Bagolino\, Via Parrocchia\, Bagolino\, 25070\, Italia
CATEGORIES:Apertura Straordinaria,Visita Guidata
ATTACH;FMTTYPE=image/jpeg:https://sistemamuseale.cmvs.it/wp-content/uploads/2025/10/bagolino-domenica-di-carta-1.jpg
END:VEVENT
BEGIN:VEVENT
DTSTART;TZID=Europe/Rome:20251012T150000
DTEND;TZID=Europe/Rome:20251012T170000
DTSTAMP:20260424T211332
CREATED:20251001T105932Z
LAST-MODIFIED:20251001T105949Z
UID:3069-1760281200-1760288400@sistemamuseale.cmvs.it
SUMMARY:FAMU al MAVS - Orsi\, lupi\, cinghiali e... quanti animali!
DESCRIPTION:Torna un nuovo appuntamento al Mavs nell’ambito delle domeniche dedicate alle famiglie e della rassegna “Mavs for Kids”.\nDomenica 12 ottobre\, presso la sede di piazza San Bernardino a Gavardo\, si svolgerà l’evento “Orsi\, lupi\, cinghiali e…quanti animali!”\, un’attività di laboratorio in cui bambine e bambini diventeranno piccoli paleontologi per scoprire gli animali che popolano il museo di Gavardo. Il laboratorio è proposto nella giornata FAMU – giornata nazionale delle famiglie al museo che viene organizzato ogni anno la seconda domenica del mese di ottobre. \nL’orario di inizio è alle ore 15.00.\nL’iniziativa\, curata dal servizio didattico del MAVS in collaborazione con le operatrici de La Melagrana\, con un costo di partecipazione di 2 euro a persona\, è rivolta ai bimbi e alle bimbe dai 4 agli 11 anni accompagnati.\nI posti sono limitati\, pertanto la prenotazione è necessaria e potrà effettuarsi mediante il link del modulo online disponibile a questo link: https://form.jotform.com/252721917351355\nPer ulteriori informazioni\, telefonare al 0365371474 (dal lunedì al venerdì\, dalle 9.00 alle 13.00 e il giovedì anche dalle 14.00 alle 17.00)\, oppure inviare una mail a: info@museoarcheologicogavardo.it. \n 
URL:https://sistemamuseale.cmvs.it/event/famu-al-mavs-orsi-lupi-cinghiali-e-quanti-animali/
LOCATION:museo archeologico della valle sabbia\, Piazza S. Bernardino\, 5\, Gavardo\, BS\, 25085\, Italia
CATEGORIES:Apertura Straordinaria,Attività Ludica,Laboratori
ATTACH;FMTTYPE=image/png:https://sistemamuseale.cmvs.it/wp-content/uploads/2025/10/12-ottobre.png
END:VEVENT
BEGIN:VEVENT
DTSTART;TZID=Europe/Rome:20251031T200000
DTEND;TZID=Europe/Rome:20251031T230000
DTSTAMP:20260424T211332
CREATED:20251020T124012Z
LAST-MODIFIED:20251020T124012Z
UID:3081-1761940800-1761951600@sistemamuseale.cmvs.it
SUMMARY:Halloween al MAVS. Una serata da paura!
DESCRIPTION:Speciale appuntamento “Halloween al Mavs. Una serata da paura!”. Un’esperienza unica per scoprire il museo archeologico anche di sera. \nL’evento\, che si terrà il 31 ottobre a partire dalle ore 20 e fino alle 23\, prevederà attività e laboratori creativi. È gradito abbigliamento a tema. \nL’iniziativa\, curata dai servizi educativi del MAVS in collaborazione con le educatrici della Cooperativa La Melagrana\, ha un costo di 14 euro\, ed è rivolta a ragazzi e ragazze che frequentano la classe V della scuola primaria e la classe I della scuola secondaria di primo grado. \nI posti sono limitati ed è pertanto necessaria la prenotazione entro giovedì 30 ottobre tramite sito web del museo al link: https://form.jotform.com/252863026162353  \nPer informazioni è possibile telefonare al numero 0365371474 (dal martedì al venerdì ore 9.00-13.00) o scrivere alla mail info@museoarcheologicogavardo.it
URL:https://sistemamuseale.cmvs.it/event/halloween-al-mavs-una-serata-da-paura/
LOCATION:museo archeologico della valle sabbia\, Piazza S. Bernardino\, 5\, Gavardo\, BS\, 25085\, Italia
CATEGORIES:Apertura Straordinaria,Attività Ludica,Laboratori
ATTACH;FMTTYPE=image/png:https://sistemamuseale.cmvs.it/wp-content/uploads/2025/10/Halloween.png
END:VEVENT
END:VCALENDAR