BEGIN:VCALENDAR
VERSION:2.0
PRODID:-//Sistema Museale - ECPv5.14.0.4//NONSGML v1.0//EN
CALSCALE:GREGORIAN
METHOD:PUBLISH
X-WR-CALNAME:Sistema Museale
X-ORIGINAL-URL:https://sistemamuseale.cmvs.it
X-WR-CALDESC:Events for Sistema Museale
REFRESH-INTERVAL;VALUE=DURATION:PT1H
X-Robots-Tag:noindex
X-PUBLISHED-TTL:PT1H
BEGIN:VTIMEZONE
TZID:Europe/Rome
BEGIN:DAYLIGHT
TZOFFSETFROM:+0100
TZOFFSETTO:+0200
TZNAME:CEST
DTSTART:20250330T010000
END:DAYLIGHT
BEGIN:STANDARD
TZOFFSETFROM:+0200
TZOFFSETTO:+0100
TZNAME:CET
DTSTART:20251026T010000
END:STANDARD
END:VTIMEZONE
BEGIN:VEVENT
DTSTART;TZID=Europe/Rome:20251101T160000
DTEND;TZID=Europe/Rome:20251101T183000
DTSTAMP:20260424T174842
CREATED:20251006T073102Z
LAST-MODIFIED:20251006T073102Z
UID:3075-1762012800-1762021800@sistemamuseale.cmvs.it
SUMMARY:Halloween alla Rocca d'Anfo!
DESCRIPTION:Un percorso guidato e adatto anche ai più piccoli\, durante il quale farai incontri spettrali e ascolterai storie misteriose.\nAlla fine del percorso\, un divertente gioco ti condurrà a una dolce ricompensa! \nPer adulti e bambini\, maggiori informazioni nella locandina allegata\, prenotazione obbligatoria contattando Infopoint Rocca d’Anfo – 3756221121
URL:https://sistemamuseale.cmvs.it/event/halloween-alla-rocca-danfo/
LOCATION:Parco della Rocca D’Anfo\, SS 237 c/o Rocca d'Anfo\, Anfo\, 25080\, Italia
CATEGORIES:Apertura Straordinaria,Attività Ludica,Visita Guidata
ATTACH;FMTTYPE=image/jpeg:https://sistemamuseale.cmvs.it/wp-content/uploads/2025/10/halloween-rocca-danfo-1-novembre.jpeg
ORGANIZER;CN="Comunit%C3%A0%20Montana%20di%20Valle%20Sabbia":MAILTO:info@cmvs.it
END:VEVENT
END:VCALENDAR