BEGIN:VCALENDAR
VERSION:2.0
PRODID:-//Sistema Museale - ECPv5.14.0.4//NONSGML v1.0//EN
CALSCALE:GREGORIAN
METHOD:PUBLISH
X-WR-CALNAME:Sistema Museale
X-ORIGINAL-URL:https://sistemamuseale.cmvs.it
X-WR-CALDESC:Events for Sistema Museale
REFRESH-INTERVAL;VALUE=DURATION:PT1H
X-Robots-Tag:noindex
X-PUBLISHED-TTL:PT1H
BEGIN:VTIMEZONE
TZID:Europe/Rome
BEGIN:DAYLIGHT
TZOFFSETFROM:+0100
TZOFFSETTO:+0200
TZNAME:CEST
DTSTART:20250330T010000
END:DAYLIGHT
BEGIN:STANDARD
TZOFFSETFROM:+0200
TZOFFSETTO:+0100
TZNAME:CET
DTSTART:20251026T010000
END:STANDARD
END:VTIMEZONE
BEGIN:VEVENT
DTSTART;TZID=Europe/Rome:20250406T150000
DTEND;TZID=Europe/Rome:20250406T170000
DTSTAMP:20260423T135406
CREATED:20250325T091441Z
LAST-MODIFIED:20250325T091441Z
UID:2720-1743951600-1743958800@sistemamuseale.cmvs.it
SUMMARY:MAVS 4 Kids - Cestino pasquale preistorico
DESCRIPTION:PASQUA AL MAVS! – Nuovo appuntamento al Museo di Gavardo per festeggiare insieme la Pasqua! \nDomenica 6 aprile 2025\, ore 15:00\nPer bimbi dai 6 agli 11 anni non accompagnati\, previa firma della liberatoria rilasciata dal museo\nCosto dell’attività: 2\,00 €\nPrenotazione necessaria: posti soggetti a disponibilità limitata\, compilando il modulo online: https://eu.jotform.com/build/250762463128356 \nPer informazioni contattare il Museo:\n0365371474 (lunedì-venerdì ore 9.00-13.00/giovedì anche 14-17/domenica 14.30-18.30) info@museoarcheologicogavardo.it \nAttività in collaborazione con La Melagrana
URL:https://sistemamuseale.cmvs.it/event/mavs-4-kids-cestino-pasquale-preistorico/
LOCATION:museo archeologico della valle sabbia\, Piazza S. Bernardino\, 5\, Gavardo\, BS\, 25085\, Italia
CATEGORIES:Attività Ludica,Laboratori
ATTACH;FMTTYPE=image/jpeg:https://sistemamuseale.cmvs.it/wp-content/uploads/2025/03/DOMENICA-6-APRILE.jpg
END:VEVENT
END:VCALENDAR