BEGIN:VCALENDAR
VERSION:2.0
PRODID:-//Sistema Museale - ECPv5.14.0.4//NONSGML v1.0//EN
CALSCALE:GREGORIAN
METHOD:PUBLISH
X-WR-CALNAME:Sistema Museale
X-ORIGINAL-URL:https://sistemamuseale.cmvs.it
X-WR-CALDESC:Events for Sistema Museale
REFRESH-INTERVAL;VALUE=DURATION:PT1H
X-Robots-Tag:noindex
X-PUBLISHED-TTL:PT1H
BEGIN:VTIMEZONE
TZID:Europe/Rome
BEGIN:DAYLIGHT
TZOFFSETFROM:+0100
TZOFFSETTO:+0200
TZNAME:CEST
DTSTART:20260329T010000
END:DAYLIGHT
BEGIN:STANDARD
TZOFFSETFROM:+0200
TZOFFSETTO:+0100
TZNAME:CET
DTSTART:20261025T010000
END:STANDARD
END:VTIMEZONE
BEGIN:VEVENT
DTSTART;TZID=Europe/Rome:20260327T161500
DTEND;TZID=Europe/Rome:20260327T173000
DTSTAMP:20260424T161831
CREATED:20260311T133214Z
LAST-MODIFIED:20260311T134048Z
UID:3194-1774628100-1774632600@sistemamuseale.cmvs.it
SUMMARY:Piccoli lettori\, grandi scoperte. Dal museo alla biblioteca
DESCRIPTION:Primo appuntamento della rassegna Dal museo alla biblioteca – L’archeologia incontra i libri \n27 marzo ore 16:15\, maggiori informazioni e programma completo nella locandina allegata. \n\nL’attività propone letture e un laboratorio dedicato ai bambini dell’ultimo anno della scuola dell’infanzia e delle classi I e II della scuola primaria\, per scoprire insieme la storia attraverso narrazione e creatività.\nL’iniziativa nasce dalla collaborazione tra Città di Gardone Riviera\, MAVS\, Sistema Bibliotecario Nord Est Bresciano\, Sistema Museale della Valle Sabbia e Cooperativa La Melagrana. \nEvento gratuito – posti limitati.\nPer la prenotazione: bibliotecagardoneriviera@virgilio.it
URL:https://sistemamuseale.cmvs.it/event/piccoli-lettori-grandi-scoperte-dal-museo-alla-biblioteca/
LOCATION:Biblioteca di Gardone Riviera\, Via Follerau\, Gardone Riviera\, BS\, 25083
CATEGORIES:Attività Ludica,Laboratori
ATTACH;FMTTYPE=image/png:https://sistemamuseale.cmvs.it/wp-content/uploads/2026/03/dal-museo-alla-biblioteca-locandina.png
END:VEVENT
BEGIN:VEVENT
DTSTART;TZID=Europe/Rome:20260410T150000
DTEND;TZID=Europe/Rome:20260410T160000
DTSTAMP:20260424T161831
CREATED:20260311T133633Z
LAST-MODIFIED:20260311T133633Z
UID:3198-1775833200-1775836800@sistemamuseale.cmvs.it
SUMMARY:Di strato in strato: il mestiere dell'archeologo. Dal museo alla biblioteca
DESCRIPTION:Secondo appuntamento della rassegna Dal museo alla biblioteca – L’archeologia incontra i libri. \n10 aprile ore 15:00\, per info e programma completo consultare la locandina allegata. \n\nIl laboratorio accompagna i partecipanti alla scoperta del mestiere dell’archeologo e del sito palafitticolo del Lucone\, patrimonio UNESCO\, attraverso un’attività coinvolgente dedicata alle classi IV e V della primaria e alle classi I della secondaria di primo grado. \nL’iniziativa è frutto della collaborazione tra Città di Gardone Riviera\, MAVS\, Sistema Bibliotecario Nord Est Bresciano\, Sistema Museale della Valle Sabbia e Cooperativa La Melagrana. \nEvento gratuito – prenotazione obbligatoria.\nE-mail: bibliotecagardoneriviera@virgilio.it
URL:https://sistemamuseale.cmvs.it/event/di-strato-in-strato-il-mestiere-dellarcheologo-dal-museo-alla-biblioteca/
LOCATION:Biblioteca di Gardone Riviera\, Via Follerau\, Gardone Riviera\, BS\, 25083
CATEGORIES:Attività Ludica,Laboratori
ATTACH;FMTTYPE=image/png:https://sistemamuseale.cmvs.it/wp-content/uploads/2026/03/dal-museo-alla-biblioteca-locandina.png
END:VEVENT
BEGIN:VEVENT
DTSTART;TZID=Europe/Rome:20260419T150000
DTEND;TZID=Europe/Rome:20260419T170000
DTSTAMP:20260424T161831
CREATED:20260410T072109Z
LAST-MODIFIED:20260410T072109Z
UID:3215-1776610800-1776618000@sistemamuseale.cmvs.it
SUMMARY:Coloriamo la Storia - Disegniamo l'Arte al MAVS
DESCRIPTION:Anche quest’anno torna Disegniamo l’arte\, un’iniziativa promossa e curata da Abbonamento Musei Lombardia\, che il Mavs propone nella rassegna Mavs for Kids\, le attività dedicate alle famiglie. \nDomenica 19 aprile\, alle ore 15\, nella sede di piazza San Bernardino a Gavardo è in programma un pomeriggio dedicato alla scoperta dei reperti attraverso il disegno.\nL’evento dal titolo “Coloriamo la storia” coinvolgerà i partecipanti nell’osservazione di alcuni reperti delle collezioni: dettagli\, forme\, decorazioni saranno poi rielaborati in modo creativo\, dando vita a vere e proprie opere d’arte.\nL’iniziativa\, curata dai servizi educativi del MAVS in collaborazione con le educatrici della Cooperativa La Melagrana\, ha un costo di 3 euro a partecipante ed è rivolta alle bambine e ai bambini dai 5 agli 11 anni\, accompagnati.\nI posti sono limitati\, pertanto è necessaria la prenotazione tramite il modulo online\, reperibile sul sito web del museo o al link  \nPer ulteriori informazioni è possibile telefonare al numero 0365371474 (dal lunedì al venerdì\, dalle 9.00 alle 13.00\, il giovedì anche dalle 14.00 alle 17.00 e la domenica dalle 14.30 alle 18.30)\, oppure inviare una mail a info@museoarcheologicogavardo.it.
URL:https://sistemamuseale.cmvs.it/event/coloriamo-la-storia-disegniamo-larte-al-mavs/
LOCATION:museo archeologico della valle sabbia\, Piazza S. Bernardino\, 5\, Gavardo\, BS\, 25085\, Italia
CATEGORIES:Attività Ludica,Laboratori,Visita Guidata
ATTACH;FMTTYPE=image/png:https://sistemamuseale.cmvs.it/wp-content/uploads/2026/04/19-aprile-locandina.png
END:VEVENT
BEGIN:VEVENT
DTSTART;VALUE=DATE:20260425
DTEND;VALUE=DATE:20260427
DTSTAMP:20260424T161831
CREATED:20260420T081053Z
LAST-MODIFIED:20260420T081339Z
UID:3236-1777075200-1777247999@sistemamuseale.cmvs.it
SUMMARY:Escursioni in Valle Sabbia – Una notte di libertà
DESCRIPTION:Sabato 25 e domenica 26 aprile 2026 si svolge l’escursione guidata Una notte di libertà\, lungo il Sentiero della 7ª Brigata Matteotti\, nei luoghi della Resistenza in Valle Sabbia.\nPartendo da Arveaco\, l’esperienza unisce cammino\, narrazione storica e memoria\, con pernottamento in tenda nei pressi del Monte Besume.\n5 km – dislivello 320 m\nNotte in tenda. Attrezzatura obbligatoria: materassino\, tenda\, sacco a pelo\, scarpe da trekking\, acqua\, antipioggia/antivento \nPer informazioni e prenotazioni: +39 3385072123 Giovanni Freddi
URL:https://sistemamuseale.cmvs.it/event/escursioni-in-valle-sabbia-una-notte-di-liberta/
LOCATION:Provaglio Val Sabbia\, Via Milano\, Provaglio Val Sabbia\, Italia
CATEGORIES:Enogastronomia,Escursione,Visita Guidata
ATTACH;FMTTYPE=image/jpeg:https://sistemamuseale.cmvs.it/wp-content/uploads/2026/04/giovanni-freddi-25-26-apr.jpeg
END:VEVENT
BEGIN:VEVENT
DTSTART;TZID=Europe/Rome:20260425T093000
DTEND;TZID=Europe/Rome:20260425T170000
DTSTAMP:20260424T161831
CREATED:20260415T125211Z
LAST-MODIFIED:20260415T125211Z
UID:3222-1777109400-1777136400@sistemamuseale.cmvs.it
SUMMARY:Rievocazione storica alla Rocca d'Anfo
DESCRIPTION:La Rocca d’Anfo farà un salto indietro nel tempo\, accogliendo l’APS Napoleonica Fenix – 7° Reggimento Fanteria di Linea per una giornata all’insegna della storia. Nel corso delle visite guidate\, i partecipanti avranno l’opportunità di assistere a un’affascinante rievocazione di addestramento napoleonico: manovre\, ordini e movimenti prenderanno vita tra le mura della fortezza\, offrendo uno sguardo autentico sulla disciplina e sulla quotidianità dei soldati dell’epoca. \nSabato 25 aprile. Visite guidate 9:40 – 11:00 – 14:00\nPresso Rocca d’Anfo \nPrenota sul sito o chiamando il numero indicato nella locandina.
URL:https://sistemamuseale.cmvs.it/event/rievocazione-storica-alla-rocca-danfo/
LOCATION:Parco della Rocca D’Anfo\, SS 237 c/o Rocca d'Anfo\, Anfo\, 25080\, Italia
CATEGORIES:Attività Ludica,Visita Guidata
ATTACH;FMTTYPE=image/jpeg:https://sistemamuseale.cmvs.it/wp-content/uploads/2026/04/670196298_122210319200331517_3398306496476469910_n.jpg
ORGANIZER;CN="Comunit%C3%A0%20Montana%20di%20Valle%20Sabbia":MAILTO:info@cmvs.it
END:VEVENT
BEGIN:VEVENT
DTSTART;TZID=Europe/Rome:20260503T150000
DTEND;TZID=Europe/Rome:20260503T170000
DTSTAMP:20260424T161831
CREATED:20260422T093930Z
LAST-MODIFIED:20260422T093930Z
UID:3247-1777820400-1777827600@sistemamuseale.cmvs.it
SUMMARY:Mavs 4 kids. Ornamenti dal passato
DESCRIPTION:Ritorna un nuovo appuntamento nell’ambito della rassegna “MAVS for KIDS”\, il ciclo di iniziative del Museo Archeologico della Valle Sabbia dedicate ai più piccoli.\nDomenica 3 maggio\, alle ore 15\, nella sede di piazza San Bernardino a Gavardo è in programma lo speciale evento “Ornamenti dal passato”\, un laboratorio creativo alla scoperta degli antichi monili preistorici.\nL’iniziativa\, curata dai servizi educativi del MAVS in collaborazione con le educatrici della Cooperativa La Melagrana\, ha un costo di 3 euro a partecipante ed è rivolta alle bimbe e ai bimbi dai 5 ai 10 anni accompagnati. È richiesta la prenotazione tramite modulo online a questo indirizzo.\nPer ulteriori informazioni è possibile telefonare ai numeri 0365371474 (dal martedì al venerdì\, dalle 9.00 alle 13.00\, il giovedì anche dalle 14.00 alle 17.00 e la domenica dalle 14.30 alle 18.30)\, oppure inviare una mail a info@museoarcheologicogavardo.it.
URL:https://sistemamuseale.cmvs.it/event/mavs-4-kids-ornamenti-dal-passato/
LOCATION:museo archeologico della valle sabbia\, Piazza S. Bernardino\, 5\, Gavardo\, BS\, 25085\, Italia
CATEGORIES:Attività Ludica,Laboratori,Visita Guidata
ATTACH;FMTTYPE=image/png:https://sistemamuseale.cmvs.it/wp-content/uploads/2026/04/Ornamenti-dal-passato.png
END:VEVENT
END:VCALENDAR