BEGIN:VCALENDAR
VERSION:2.0
PRODID:-//Sistema Museale - ECPv5.14.0.4//NONSGML v1.0//EN
CALSCALE:GREGORIAN
METHOD:PUBLISH
X-WR-CALNAME:Sistema Museale
X-ORIGINAL-URL:https://sistemamuseale.cmvs.it
X-WR-CALDESC:Events for Sistema Museale
REFRESH-INTERVAL;VALUE=DURATION:PT1H
X-Robots-Tag:noindex
X-PUBLISHED-TTL:PT1H
BEGIN:VTIMEZONE
TZID:Europe/Rome
BEGIN:DAYLIGHT
TZOFFSETFROM:+0100
TZOFFSETTO:+0200
TZNAME:CEST
DTSTART:20250330T010000
END:DAYLIGHT
BEGIN:STANDARD
TZOFFSETFROM:+0200
TZOFFSETTO:+0100
TZNAME:CET
DTSTART:20251026T010000
END:STANDARD
END:VTIMEZONE
BEGIN:VEVENT
DTSTART;TZID=Europe/Rome:20251031T200000
DTEND;TZID=Europe/Rome:20251031T230000
DTSTAMP:20260424T193049
CREATED:20251020T124012Z
LAST-MODIFIED:20251020T124012Z
UID:3081-1761940800-1761951600@sistemamuseale.cmvs.it
SUMMARY:Halloween al MAVS. Una serata da paura!
DESCRIPTION:Speciale appuntamento “Halloween al Mavs. Una serata da paura!”. Un’esperienza unica per scoprire il museo archeologico anche di sera. \nL’evento\, che si terrà il 31 ottobre a partire dalle ore 20 e fino alle 23\, prevederà attività e laboratori creativi. È gradito abbigliamento a tema. \nL’iniziativa\, curata dai servizi educativi del MAVS in collaborazione con le educatrici della Cooperativa La Melagrana\, ha un costo di 14 euro\, ed è rivolta a ragazzi e ragazze che frequentano la classe V della scuola primaria e la classe I della scuola secondaria di primo grado. \nI posti sono limitati ed è pertanto necessaria la prenotazione entro giovedì 30 ottobre tramite sito web del museo al link: https://form.jotform.com/252863026162353  \nPer informazioni è possibile telefonare al numero 0365371474 (dal martedì al venerdì ore 9.00-13.00) o scrivere alla mail info@museoarcheologicogavardo.it
URL:https://sistemamuseale.cmvs.it/event/halloween-al-mavs-una-serata-da-paura/
LOCATION:museo archeologico della valle sabbia\, Piazza S. Bernardino\, 5\, Gavardo\, BS\, 25085\, Italia
CATEGORIES:Apertura Straordinaria,Attività Ludica,Laboratori
ATTACH;FMTTYPE=image/png:https://sistemamuseale.cmvs.it/wp-content/uploads/2025/10/Halloween.png
END:VEVENT
END:VCALENDAR