BEGIN:VCALENDAR
VERSION:2.0
PRODID:-//Sistema Museale - ECPv5.14.0.4//NONSGML v1.0//EN
CALSCALE:GREGORIAN
METHOD:PUBLISH
X-WR-CALNAME:Sistema Museale
X-ORIGINAL-URL:https://sistemamuseale.cmvs.it
X-WR-CALDESC:Events for Sistema Museale
REFRESH-INTERVAL;VALUE=DURATION:PT1H
X-Robots-Tag:noindex
X-PUBLISHED-TTL:PT1H
BEGIN:VTIMEZONE
TZID:Europe/Rome
BEGIN:DAYLIGHT
TZOFFSETFROM:+0100
TZOFFSETTO:+0200
TZNAME:CEST
DTSTART:20250330T010000
END:DAYLIGHT
BEGIN:STANDARD
TZOFFSETFROM:+0200
TZOFFSETTO:+0100
TZNAME:CET
DTSTART:20251026T010000
END:STANDARD
END:VTIMEZONE
BEGIN:VEVENT
DTSTART;TZID=Europe/Rome:20251207T150000
DTEND;TZID=Europe/Rome:20251207T170000
DTSTAMP:20260424T193050
CREATED:20251126T132111Z
LAST-MODIFIED:20251126T141055Z
UID:3123-1765119600-1765126800@sistemamuseale.cmvs.it
SUMMARY:Natale al Museo Archeologico di Gavardo
DESCRIPTION:Nello speciale appuntamento Mavs for kids\, torna una domenica al museo di Gavardo interamente dedicata alla didattica e alla sperimentazione.\nDomenica 7 dicembre alle ore 15.00 si terrà l’attività “Natale al MAVS”. In questo appuntamento si potrà realizzare una speciale archeodecorazione ispirata ai reperti della collezione e contribuire alla decorazione dell’albero di Natale del Museo!\nL’iniziativa\, curata dai servizi educativi del MAVS in collaborazione con le educatrici della Cooperativa La Melagrana\, ha un costo di 2 euro a partecipante ed è prevista per bambini dai 4 ai 10 anni. \nI posti sono limitati\, è pertanto necessaria la prenotazione\, attraverso il modulo online reperibile nella sezione Notizie ed eventi del sito del museo: www.museoarcheologicogavardo.it o al link https://form.jotform.com/253241962074355\nPer informazioni è possibile telefonare al numero 0365371474 (dal martedì al venerdì ore 9.00-13.00)\, o scrivere una mail a info@museoarcheologicogavardo.it.
URL:https://sistemamuseale.cmvs.it/event/natale-al-museo-archeologico-di-gavardo/
LOCATION:museo archeologico della valle sabbia\, Piazza S. Bernardino\, 5\, Gavardo\, BS\, 25085\, Italia
CATEGORIES:Attività Ludica,Laboratori
ATTACH;FMTTYPE=image/png:https://sistemamuseale.cmvs.it/wp-content/uploads/2025/11/Archeonatale.png
END:VEVENT
END:VCALENDAR