BEGIN:VCALENDAR
VERSION:2.0
PRODID:-//Sistema Museale - ECPv5.14.0.4//NONSGML v1.0//EN
CALSCALE:GREGORIAN
METHOD:PUBLISH
X-WR-CALNAME:Sistema Museale
X-ORIGINAL-URL:https://sistemamuseale.cmvs.it
X-WR-CALDESC:Events for Sistema Museale
REFRESH-INTERVAL;VALUE=DURATION:PT1H
X-Robots-Tag:noindex
X-PUBLISHED-TTL:PT1H
BEGIN:VTIMEZONE
TZID:Europe/Rome
BEGIN:DAYLIGHT
TZOFFSETFROM:+0100
TZOFFSETTO:+0200
TZNAME:CEST
DTSTART:20240331T010000
END:DAYLIGHT
BEGIN:STANDARD
TZOFFSETFROM:+0200
TZOFFSETTO:+0100
TZNAME:CET
DTSTART:20241027T010000
END:STANDARD
END:VTIMEZONE
BEGIN:VEVENT
DTSTART;VALUE=DATE:20240413
DTEND;VALUE=DATE:20250101
DTSTAMP:20260423T024054
CREATED:20240403T104006Z
LAST-MODIFIED:20240403T104027Z
UID:2089-1712966400-1735689599@sistemamuseale.cmvs.it
SUMMARY:Mostra L'età del Legno. 4000 anni fa al Lucone
DESCRIPTION:Al Museo Archeologico della Valle Sabbia una nuova mostra dedicata ai manufatti in legno e tessuti dal sito palafitticolo dell’età del Bronzo. \nInaugurazione aperta al pubblico sabato 13 aprile 2024 alle ore 11.00 \nLa mostra\, visitabile fino al 31 dicembre 2024\, sarà l’occasione per osservare oggetti di una rarità assoluta\, da raffinati manufatti decorati fino ad elementi strutturali delle antiche case. Spicca su tutti la porta in legno più antica d’Italia! \nPer informazioni\, orari e biglietti contattare il Museo.
URL:https://sistemamuseale.cmvs.it/event/mostra-leta-del-legno-4000-anni-fa-al-lucone/
LOCATION:museo archeologico della valle sabbia\, Piazza S. Bernardino\, 5\, Gavardo\, BS\, 25085\, Italia
CATEGORIES:Mostra,Visita Guidata
ATTACH;FMTTYPE=image/jpeg:https://sistemamuseale.cmvs.it/wp-content/uploads/2024/04/mostra-bronzo-mavs-lucone-13-aprile.jpg
END:VEVENT
BEGIN:VEVENT
DTSTART;TZID=Europe/Rome:20241005T160000
DTEND;TZID=Europe/Rome:20241005T170000
DTSTAMP:20260423T024054
CREATED:20240924T121301Z
LAST-MODIFIED:20240924T121301Z
UID:2547-1728144000-1728147600@sistemamuseale.cmvs.it
SUMMARY:Gente di Vallesabbia - Avventure di giovani patrioti
DESCRIPTION:Gente di Vallesabbia – ciclo di incontri a cura dell’Associazione Artistica Culturale “Eridio” presso la Sala Convegni della Cassa Rurale di Ponte Caffaro. \nTutti i dettagli nella locandina allegata.
URL:https://sistemamuseale.cmvs.it/event/gente-di-vallesabbia-avventure-di-giovani-patrioti/
LOCATION:Ponte Caffaro\, Ponte Caffaro\, 25072\, Italia
CATEGORIES:Conferenza
ATTACH;FMTTYPE=image/jpeg:https://sistemamuseale.cmvs.it/wp-content/uploads/2024/09/ponte-caffaro-conferenze-gente-di-vallesabbia-eridio-ott-nov-24.jpeg
END:VEVENT
BEGIN:VEVENT
DTSTART;TZID=Europe/Rome:20241006T150000
DTEND;TZID=Europe/Rome:20241006T180000
DTSTAMP:20260423T024054
CREATED:20240705T091323Z
LAST-MODIFIED:20240927T085949Z
UID:2361-1728226800-1728237600@sistemamuseale.cmvs.it
SUMMARY:Racconti e Musica al Museo della Resistenza
DESCRIPTION:Ogni prima domenica del mese fino al 6 ottobre 2024\, il Museo della Resistenza e del Folklore Valsabbino (fraz. Forno d’Ono) sarà aperto al pubblico dalle 15.00 alle 18.00. \nDomenica 6 ottobre chiusura con presentazione del libro di A. Galzerano “Isole comprese”.
URL:https://sistemamuseale.cmvs.it/event/apertura-museo-della-resistenza-di-pertica-bassa-3/
LOCATION:Museo della Resistenza e del Folklore Valsabbino\, Via Roma 7\, Forno d'Ono\, 25078\, Italia
CATEGORIES:Apertura Straordinaria,Incontro con l'autore
ATTACH;FMTTYPE=image/jpeg:https://sistemamuseale.cmvs.it/wp-content/uploads/2024/07/pertica-bassa-concerto-6-ott.jpg
END:VEVENT
BEGIN:VEVENT
DTSTART;TZID=Europe/Rome:20241013T150000
DTEND;TZID=Europe/Rome:20241013T170000
DTSTAMP:20260423T024054
CREATED:20241002T122542Z
LAST-MODIFIED:20241002T122542Z
UID:2558-1728831600-1728838800@sistemamuseale.cmvs.it
SUMMARY:FaMu - Dal bosco allo strumento: i legni del Lucone al MAVS
DESCRIPTION:Domenica 13 ottobre è la giornata di Famu – Famiglie al Museo\, che quest’anno ha come tema “un museo green”.\nPer l’occasione al MAVS di Gavardo scopriremo nel dettaglio la mostra dedicata ai legni del Lucone\, riflettendo sull’importanza delle risorse naturali per i nostri antenati\, sul loro utilizzo\, recupero e salvaguardia. Ci cimenteremo poi in un laboratorio creativo.\nPer bambine e bambini dai 6 ai 12 anni accompagnati da un adulto\, inizio attività ore 15.00. \nPer informazioni e prenotazioni:\n0365.371474 (martedì-venerdì 9:00-13:00\, il giovedì anche dalle 14:00 alle 17:00 e la domenica dalle 14:30 alle 18:30)\ninfo@museoarcheologicogavardo.it
URL:https://sistemamuseale.cmvs.it/event/famu-dal-bosco-allo-strumento-i-legni-del-lucone-al-mavs/
LOCATION:museo archeologico della valle sabbia\, Piazza S. Bernardino\, 5\, Gavardo\, BS\, 25085\, Italia
CATEGORIES:Attività Ludica,Laboratori,Manifestazione,Visita Guidata
ATTACH;FMTTYPE=image/jpeg:https://sistemamuseale.cmvs.it/wp-content/uploads/2024/10/Famu-2024-social-13-ottobre-mavs.jpg
END:VEVENT
BEGIN:VEVENT
DTSTART;TZID=Europe/Rome:20241019T160000
DTEND;TZID=Europe/Rome:20241019T170000
DTSTAMP:20260423T024055
CREATED:20240924T121445Z
LAST-MODIFIED:20240924T121445Z
UID:2550-1729353600-1729357200@sistemamuseale.cmvs.it
SUMMARY:Gente di Vallesabbia - Benedetto XI\, un papa quasi bresciano
DESCRIPTION:Gente di Vallesabbia – ciclo di incontri a cura dell’Associazione Artistica Culturale “Eridio” presso la Sala Convegni della Cassa Rurale di Ponte Caffaro. \nTutti i dettagli nella locandina allegata.
URL:https://sistemamuseale.cmvs.it/event/gente-di-vallesabbia-benedetto-xi-un-papa-quasi-bresciano/
LOCATION:Ponte Caffaro\, Ponte Caffaro\, 25072\, Italia
CATEGORIES:Conferenza,Incontro con l'autore
ATTACH;FMTTYPE=image/jpeg:https://sistemamuseale.cmvs.it/wp-content/uploads/2024/09/ponte-caffaro-conferenze-gente-di-vallesabbia-eridio-ott-nov-24.jpeg
END:VEVENT
BEGIN:VEVENT
DTSTART;TZID=Europe/Rome:20241020T100000
DTEND;TZID=Europe/Rome:20241020T160000
DTSTAMP:20260423T024055
CREATED:20241015T130028Z
LAST-MODIFIED:20241015T130405Z
UID:2569-1729418400-1729440000@sistemamuseale.cmvs.it
SUMMARY:Una violetta per combattere il Lupus a Capovalle
DESCRIPTION:Domenica 20 ottobre 2024\nAPERTURA STRAORDINARIA del MUSEO\nApertura straordinaria del Museo dei Reperti Bellici dalle ore 10.00 alle ore 12.00 e dalle ore 14.00 alle ore 16.00\ncon l’occasione sarà ospitata l’iniziativa di sensibilizzazione Una violetta per combattere il Lupus dell’associazione GRUPPO LES ITALIANO ODV\, che si occupa della raccolta di fondi per la ricerca sul LUPUS ERITEMATOSO SISTEMICO\, malattia di cui si legge e si parla molto poco\, pur essendo una delle patologie autoimmuni più diffuse e più insidiose. \nChi vorrà cogliere l’occasione potrà sia far visita al museo che contribuire con la propria offerta al gruppo LES e portarsi a casa una simpatica piantina.
URL:https://sistemamuseale.cmvs.it/event/una-violetta-per-combattere-il-lupus-a-capovalle/
LOCATION:Museo dei reperti bellici – Capovalle\, Via XXIV Maggio\, 9\, Capovalle\, BS\, 25070\, Italia
CATEGORIES:Apertura Straordinaria
ATTACH;FMTTYPE=image/jpeg:https://sistemamuseale.cmvs.it/wp-content/uploads/2024/10/una-violetta-per-la-ricercaLES-capovalle-20.10_page-0001.jpg
END:VEVENT
BEGIN:VEVENT
DTSTART;TZID=Europe/Rome:20241026T143000
DTEND;TZID=Europe/Rome:20241026T173000
DTSTAMP:20260423T024055
CREATED:20241016T125126Z
LAST-MODIFIED:20241016T131447Z
UID:2575-1729953000-1729963800@sistemamuseale.cmvs.it
SUMMARY:Museums & More in Valle Sabbia. Da Montesuello a Sant'Antonio
DESCRIPTION:Sabato 26 ottobre | ore 14:30 | Ossario di Montesuello\, Anfo\nDa Montesuello a Sant’Antonio\, escursione tra arte e storia\nAccompagnati dalle guide AIGAE Giovanni Freddi e Nadia Panelli \nVisita all’Ossario a cura di Matteo Ghedi\, trekking fino alla località Sant’Antonio e visita all’omonima chiesa a cura di Romeo Seccamani. \nAttività adatta a tutti – bambini accompagnati. Durata 3 ore circa \nAttrezzatura obbligatoria: scarpe da trekking o ginnastica\, borraccia e giaccavento\nAssicurazione medica inclusa \nPrenotazioni (solo whatsapp\, fino a 24 ore prima): Giovanni 3385072123 o Nadia 3283187042 \nPossibilità di degustazione (facoltativa) di prodotti tipici presso Locanda Sant’Antonio\, su prenotazione al costo di 7€ (pagamento in loco). \n  \nMuseums & More in Vallesabbia è una rassegna a cura del Sistema Museale della Valle Sabbia\, realizzata con il contributo di Regione Lombardia.
URL:https://sistemamuseale.cmvs.it/event/museums-more-in-valle-sabbia-da-montesuello-a-santantonio/
LOCATION:Ossario di Montesuello\, SP669\, 25070 Anfo BS
CATEGORIES:Apertura Straordinaria,Enogastronomia,Escursione,Visita Guidata
ATTACH;FMTTYPE=image/png:https://sistemamuseale.cmvs.it/wp-content/uploads/2024/10/MM-26-ottobre-santantonio.png
ORGANIZER;CN="Sistema%20Museale%20Valle%20Sabbia":MAILTO:sistemamuseale@cmvs.it
END:VEVENT
BEGIN:VEVENT
DTSTART;TZID=Europe/Rome:20241026T160000
DTEND;TZID=Europe/Rome:20241026T170000
DTSTAMP:20260423T024055
CREATED:20240924T121553Z
LAST-MODIFIED:20240924T121553Z
UID:2552-1729958400-1729962000@sistemamuseale.cmvs.it
SUMMARY:Gente di Vallesabbia - Non chiamarlo amore
DESCRIPTION:Gente di Vallesabbia – ciclo di incontri a cura dell’Associazione Artistica Culturale “Eridio” presso la Sala Convegni della Cassa Rurale di Ponte Caffaro. \nTutti i dettagli nella locandina allegata.
URL:https://sistemamuseale.cmvs.it/event/gente-di-vallesabbia-non-chiamarlo-amore/
LOCATION:Ponte Caffaro\, Ponte Caffaro\, 25072\, Italia
CATEGORIES:Conferenza,Incontro con l'autore
ATTACH;FMTTYPE=image/jpeg:https://sistemamuseale.cmvs.it/wp-content/uploads/2024/09/ponte-caffaro-conferenze-gente-di-vallesabbia-eridio-ott-nov-24.jpeg
END:VEVENT
END:VCALENDAR