BEGIN:VCALENDAR
VERSION:2.0
PRODID:-//Sistema Museale - ECPv5.14.0.4//NONSGML v1.0//EN
CALSCALE:GREGORIAN
METHOD:PUBLISH
X-WR-CALNAME:Sistema Museale
X-ORIGINAL-URL:https://sistemamuseale.cmvs.it
X-WR-CALDESC:Events for Sistema Museale
REFRESH-INTERVAL;VALUE=DURATION:PT1H
X-Robots-Tag:noindex
X-PUBLISHED-TTL:PT1H
BEGIN:VTIMEZONE
TZID:Europe/Rome
BEGIN:DAYLIGHT
TZOFFSETFROM:+0100
TZOFFSETTO:+0200
TZNAME:CEST
DTSTART:20240331T010000
END:DAYLIGHT
BEGIN:STANDARD
TZOFFSETFROM:+0200
TZOFFSETTO:+0100
TZNAME:CET
DTSTART:20241027T010000
END:STANDARD
BEGIN:DAYLIGHT
TZOFFSETFROM:+0100
TZOFFSETTO:+0200
TZNAME:CEST
DTSTART:20250330T010000
END:DAYLIGHT
BEGIN:STANDARD
TZOFFSETFROM:+0200
TZOFFSETTO:+0100
TZNAME:CET
DTSTART:20251026T010000
END:STANDARD
END:VTIMEZONE
BEGIN:VEVENT
DTSTART;VALUE=DATE:20240413
DTEND;VALUE=DATE:20250101
DTSTAMP:20260423T054846
CREATED:20240403T104006Z
LAST-MODIFIED:20240403T104027Z
UID:2089-1712966400-1735689599@sistemamuseale.cmvs.it
SUMMARY:Mostra L'età del Legno. 4000 anni fa al Lucone
DESCRIPTION:Al Museo Archeologico della Valle Sabbia una nuova mostra dedicata ai manufatti in legno e tessuti dal sito palafitticolo dell’età del Bronzo. \nInaugurazione aperta al pubblico sabato 13 aprile 2024 alle ore 11.00 \nLa mostra\, visitabile fino al 31 dicembre 2024\, sarà l’occasione per osservare oggetti di una rarità assoluta\, da raffinati manufatti decorati fino ad elementi strutturali delle antiche case. Spicca su tutti la porta in legno più antica d’Italia! \nPer informazioni\, orari e biglietti contattare il Museo.
URL:https://sistemamuseale.cmvs.it/event/mostra-leta-del-legno-4000-anni-fa-al-lucone/
LOCATION:museo archeologico della valle sabbia\, Piazza S. Bernardino\, 5\, Gavardo\, BS\, 25085\, Italia
CATEGORIES:Mostra,Visita Guidata
ATTACH;FMTTYPE=image/jpeg:https://sistemamuseale.cmvs.it/wp-content/uploads/2024/04/mostra-bronzo-mavs-lucone-13-aprile.jpg
END:VEVENT
BEGIN:VEVENT
DTSTART;TZID=Europe/Rome:20241201T150000
DTEND;TZID=Europe/Rome:20241201T170000
DTSTAMP:20260423T054846
CREATED:20241126T153926Z
LAST-MODIFIED:20241126T153926Z
UID:2638-1733065200-1733072400@sistemamuseale.cmvs.it
SUMMARY:Archeo-decorazioni di Natale al MAVS
DESCRIPTION:ARCHEO DECORAZIONI DI NATALE – PARTE 2!\nVi aspettiamo per il secondo incontro del Mavs dedicato al Natale!\nvieni al museo per creare insieme il nostro calendario dell’avvento personalizzato! \nDomenica 1 dicembre ore 15.00\nAttività per tutte le età. Prezzo 2 euro a persona\nPrenotazione necessaria tramite modulo online https://form.jotform.com/243242202979356 \nPer info:\n0365371474 (lunedì-venerdì ore 9.00-13.00)\ninfo@museoarcheologicogavardo.it\nAttività in collaborazione con La Melagrana
URL:https://sistemamuseale.cmvs.it/event/archeo-decorazioni-di-natale-al-mavs-2/
LOCATION:museo archeologico della valle sabbia\, Piazza S. Bernardino\, 5\, Gavardo\, BS\, 25085\, Italia
CATEGORIES:Attività Ludica,Laboratori
ATTACH;FMTTYPE=image/png:https://sistemamuseale.cmvs.it/wp-content/uploads/2024/11/1-dicembre.png
END:VEVENT
BEGIN:VEVENT
DTSTART;TZID=Europe/Rome:20241213T180000
DTEND;TZID=Europe/Rome:20241213T193000
DTSTAMP:20260423T054846
CREATED:20241203T105219Z
LAST-MODIFIED:20241203T105219Z
UID:2658-1734112800-1734118200@sistemamuseale.cmvs.it
SUMMARY:Presentazione libro Romeo Seccamani
DESCRIPTION:Presentazione del libro di Romeo Seccamani per Associazione Artisti Bresciani\, tutte le informazioni nella locandina allegata.
URL:https://sistemamuseale.cmvs.it/event/presentazione-libro-romeo-seccamani/
LOCATION:Brescia\, Piazza del Foro\, Brescia\, Italia
CATEGORIES:Incontro con l'autore
ATTACH;FMTTYPE=image/jpeg:https://sistemamuseale.cmvs.it/wp-content/uploads/2024/12/AAB-Seccamani-13-dicembre.jpeg
END:VEVENT
BEGIN:VEVENT
DTSTART;TZID=Europe/Rome:20241213T203000
DTEND;TZID=Europe/Rome:20241213T220000
DTSTAMP:20260423T054846
CREATED:20241126T154848Z
LAST-MODIFIED:20241204T093125Z
UID:2644-1734121800-1734127200@sistemamuseale.cmvs.it
SUMMARY:Conferenza "La Macchina del tempo. L'uomo e l'evoluzione" al MAVS
DESCRIPTION:nell’ambito della serie di iniziative per ricordare il 70° anniversario di Fondazione\, l’Associazione Gruppo Grotte Gavardo promuove il ciclo di conferenze\nLA MACCHINA DEL TEMPO: L’UOMO E L’EVOLUZIONE\n___\nVenerdì 15 novembre 2024\, ore 20.30\n“HOMO SAPIENS ALLA CONQUISTA DEL VECCHIO MONDO: COSA LA GENETICA CI RACCONTA SULLA COLONIZZAZIONE DELL’EUROASIA”\nDott. Leonardo Vallini – Università Johannes Gutenberg di Magonza (DE) \nVenerdì 29 novembre 2024\, ore 20.30\n“ALL YOU CAN EAT: DIETA E RISORSE USATE DALL’UOMO DURANTE LA SUA EVOLUZIONE”\nD.ssa Laura Longo – Università Ca’ Foscari di Venezia \nVenerdì 13 dicembre 2024\, ore 20.30\n“WONDERWART: LA MERAVIGLIOSA ARTE DEL PALEOLITICO IN ITALIA”\nDott. Dario Sigari – Museo Delle Scienze di Trento\n__\ningresso libero\nPer info: 0365.371474 – info@museoarcheologicogavardo.it
URL:https://sistemamuseale.cmvs.it/event/conferenza-la-macchina-del-tempo-luomo-e-levoluzione-al-mavs/
LOCATION:museo archeologico della valle sabbia\, Piazza S. Bernardino\, 5\, Gavardo\, BS\, 25085\, Italia
CATEGORIES:Conferenza
ATTACH;FMTTYPE=image/jpeg:https://sistemamuseale.cmvs.it/wp-content/uploads/2024/11/Locandina_3_evento-MAVS.jpg
END:VEVENT
BEGIN:VEVENT
DTSTART;TZID=Europe/Rome:20241214T150000
DTEND;TZID=Europe/Rome:20241214T170000
DTSTAMP:20260423T054846
CREATED:20241204T093527Z
LAST-MODIFIED:20241204T093527Z
UID:2662-1734188400-1734195600@sistemamuseale.cmvs.it
SUMMARY:Museums & More in Vallesabbia. Un animato gioco di mani!
DESCRIPTION:Vieni a scoprire il gioco della Morra! \nPresso Casa del Giovane (via San Rocco\, 70 Bagolino) ultima lezione pratica gratuita! \nSabato 14 dicembre ore 15.00. \nPer adulti e ragazzi dai 16 anni in su. \nPer informazioni: Nadia (solo whatsapp) 3283187042
URL:https://sistemamuseale.cmvs.it/event/museums-more-in-vallesabbia-un-animato-gioco-di-mani/
LOCATION:Bagolino\, Via Parrocchia\, Bagolino\, 25070\, Italia
CATEGORIES:Apertura Straordinaria,Laboratori
ATTACH;FMTTYPE=image/png:https://sistemamuseale.cmvs.it/wp-content/uploads/2024/11/MM-morra-bagolino-novembre.png
ORGANIZER;CN="Sistema%20Museale%20Valle%20Sabbia":MAILTO:sistemamuseale@cmvs.it
END:VEVENT
BEGIN:VEVENT
DTSTART;VALUE=DATE:20241219
DTEND;VALUE=DATE:20250113
DTSTAMP:20260423T054846
CREATED:20241210T153557Z
LAST-MODIFIED:20241210T153557Z
UID:2674-1734566400-1736726399@sistemamuseale.cmvs.it
SUMMARY:Mostra "Genti e paesaggi valsabbini nelle fotografie di Stefano Stagnoli"
DESCRIPTION:Mostra a cura del Fotoclub 8 marzo \nDal 19 dicembre 2024 al 12 gennaio 2025 presso lo spazio espositivo in via Glisenti 43\, Vestone\nOrari: lunedì-domenica 17:00-19:00 \nSabato 21 dicembre alle 17.00 inaugurazione con presentazione dell’autore a cura di Giancarlo Marchesi.
URL:https://sistemamuseale.cmvs.it/event/mostra-genti-e-paesaggi-valsabbini-nelle-fotografie-di-stefano-stagnoli/
LOCATION:Spazio espositivo Vestone\, Via Glisenti\, 43\, Vestone\, 25078\, Italia
CATEGORIES:Mostra
ATTACH;FMTTYPE=image/jpeg:https://sistemamuseale.cmvs.it/wp-content/uploads/2024/12/mostra-Stagnoli-Vestone-19-dicembre-12-gennaio.jpg
END:VEVENT
BEGIN:VEVENT
DTSTART;TZID=Europe/Rome:20241228T203000
DTEND;TZID=Europe/Rome:20241228T223000
DTSTAMP:20260423T054846
CREATED:20241213T104004Z
LAST-MODIFIED:20241213T104004Z
UID:2688-1735417800-1735425000@sistemamuseale.cmvs.it
SUMMARY:Voci dalle Pievi a Mura
DESCRIPTION:L’iniziativa dell’Associazione Culturale Vincenzo Gioberti fa tappa a Mura sabato 28 dicembre alle 20:30. \nInfo nella locandina allegata.
URL:https://sistemamuseale.cmvs.it/event/voci-dalle-pievi-a-mura/
LOCATION:BS
CATEGORIES:Musica
ATTACH;FMTTYPE=image/jpeg:https://sistemamuseale.cmvs.it/wp-content/uploads/2024/12/voci-dalle-Pievi-fino-al-3-gennaio-.jpeg
END:VEVENT
BEGIN:VEVENT
DTSTART;TZID=Europe/Rome:20241229T093000
DTEND;TZID=Europe/Rome:20241229T140000
DTSTAMP:20260423T054846
CREATED:20241211T115214Z
LAST-MODIFIED:20241211T130044Z
UID:2672-1735464600-1735480800@sistemamuseale.cmvs.it
SUMMARY:Museums & More in Valle Sabbia. Cariadeghe tra storia e natura
DESCRIPTION:Escursione sull’Altopiano di Cariadeghe\, Serle | 29 dicembre 2024 \nRitrovo 9:30 parcheggio di fronte al Rifugio Alpini Cariadeghe\nTermine previsto per le 14 \nLunghezza: circa 6km\nDislivello positivo: 250m\nDurata: 4 ore circa \nVisita guidata al Monastero di San Bartolomeo\, a cura dello storico locale Vanni Massari\, ed escursione sul ‘sentiero degli Omber’ per scoprire le caratteristiche grotte carsiche\, Büs del Lat e del Zel \nAttrezzatura obbligatoria: acqua\, scarponcini da trekking\, antivento/antipioggia\, pranzo al sacco \nI bambini dovranno essere accompagnati da un adulto.\nAttività gratuita\, prenotazione obbligatoria\, fino a 24 ore prima dell’evento: Elisa (solo whatsapp) 339 175 6587 \nMuseums & More in Vallesabbia è una rassegna a cura del Sistema Museale della Valle Sabbia\, realizzata con il contributo di Regione Lombardia.
URL:https://sistemamuseale.cmvs.it/event/museums-more-in-valle-sabbia-tra-storia-e-natura/
LOCATION:Altopiano di Cariadeghe\, Via Muradelli\, 6\, Serle\, BS\, 25080\, Italia
CATEGORIES:Apertura Straordinaria,Escursione,Visita Guidata
ATTACH;FMTTYPE=image/png:https://sistemamuseale.cmvs.it/wp-content/uploads/2024/12/MM-Serle-29-dicembre.png
ORGANIZER;CN="Sistema%20Museale%20Valle%20Sabbia":MAILTO:sistemamuseale@cmvs.it
END:VEVENT
BEGIN:VEVENT
DTSTART;TZID=Europe/Rome:20241230T143000
DTEND;TZID=Europe/Rome:20241230T170000
DTSTAMP:20260423T054846
CREATED:20241129T085013Z
LAST-MODIFIED:20241129T085807Z
UID:2652-1735569000-1735578000@sistemamuseale.cmvs.it
SUMMARY:Museums & More in Valle Sabbia. Imprinting\, prove di stampa
DESCRIPTION:Laboratorio per bambini presso MUSEO STAMPATORI «DA SABBIO»\, Via Parrocchiale\, 11/13 Sabbio Chiese \n30 dicembre 2024 | ore 14:30 6-7 anni\, ore 16:00 8-9 anni \nCome gli antichi tipografi\, sperimenteremo l’arte della stampa con i caratteri mobili. Stamperemo segnalibri e biglietti di auguri\, da personalizzare con creatività. \nDurata: 60 minuti circa.\nI bambini dovranno essere accompagnati da un adulto.\nAttività gratuita\, prenotazione obbligatoria\, fino a 24 ore prima dell’evento: 345 6192700 (solo whatsapp) oppure didattica@lamelagrana.it \nMuseums & More in Vallesabbia è una rassegna a cura del Sistema Museale della Valle Sabbia\, realizzata con il contributo di Regione Lombardia.
URL:https://sistemamuseale.cmvs.it/event/museums-more-in-valle-sabbia-imprinting-prove-di-stampa/
LOCATION:Museo Stampatori “Da Sabbio”\, Via Parrocchiale\, 13\, Sabbio Chiese\, BS\, 25070\, Italia
CATEGORIES:Apertura Straordinaria,Laboratori
ATTACH;FMTTYPE=image/png:https://sistemamuseale.cmvs.it/wp-content/uploads/2024/11/sabbio-30-dicembre.png
ORGANIZER;CN="Sistema%20Museale%20Valle%20Sabbia":MAILTO:sistemamuseale@cmvs.it
END:VEVENT
END:VCALENDAR