BEGIN:VCALENDAR
VERSION:2.0
PRODID:-//Sistema Museale - ECPv5.14.0.4//NONSGML v1.0//EN
CALSCALE:GREGORIAN
METHOD:PUBLISH
X-WR-CALNAME:Sistema Museale
X-ORIGINAL-URL:https://sistemamuseale.cmvs.it
X-WR-CALDESC:Events for Sistema Museale
REFRESH-INTERVAL;VALUE=DURATION:PT1H
X-Robots-Tag:noindex
X-PUBLISHED-TTL:PT1H
BEGIN:VTIMEZONE
TZID:Europe/Rome
BEGIN:DAYLIGHT
TZOFFSETFROM:+0100
TZOFFSETTO:+0200
TZNAME:CEST
DTSTART:20250330T010000
END:DAYLIGHT
BEGIN:STANDARD
TZOFFSETFROM:+0200
TZOFFSETTO:+0100
TZNAME:CET
DTSTART:20251026T010000
END:STANDARD
END:VTIMEZONE
BEGIN:VEVENT
DTSTART;VALUE=DATE:20250830
DTEND;VALUE=DATE:20251229
DTSTAMP:20260422T183402
CREATED:20250827T143524Z
LAST-MODIFIED:20251117T115819Z
UID:3018-1756512000-1766966399@sistemamuseale.cmvs.it
SUMMARY:Mostra Ottorino Garosio (1904-1980)
DESCRIPTION:Geografie umane tra la Valle Sabbia e la città – mostra antologica su cinque sedi\, ingresso libero: \n\nSabbio Chiese – Santuario Madonna della Rocca\n30 agosto – 28 settembre 2025\nVenerdì 14:30-18:30\, sabato e domenica 10-12 e 14:30-18:30\nInaugurazione sabato 30 agosto ore 17:00\nVestone – Associazione Via Glisenti\, 43\n19 settembre – 16 novembre 2025\nMercoledì-sabato 17:00-19:00\, domenica 9:00-12:00\nInaugurazione venerdì 19 settembre ore 18:00\nBrescia – Associazione Artisti Bresciani\n20 settembre – 8 ottobre 2025\nBagolino – Palazzo San Giorgio\n21 settembre – 26 ottobre 2025\nvenerdì 16:00-19:00\, sabato e domenica 10:00-12:00 e 16:00-19:00\nInaugurazione domenica 21 settembre ore 17:30\nBrescia – Museo Martino Dolci\n8 novembre – 28 dicembre 2025\nDal mercoledì alla domenica 10:00-12:00 / 15:00-19:00
URL:https://sistemamuseale.cmvs.it/event/mostra-ottorino-garosio-1904-1980/
LOCATION:Museo Dolci – Cascina Aurora\, Via Raffaello 163/165\, Brescia\, BS\, Italy
CATEGORIES:Apertura Straordinaria,Mostra
ATTACH;FMTTYPE=image/jpeg:https://sistemamuseale.cmvs.it/wp-content/uploads/2025/08/garosio-brescia-fino-28-dicembre.jpg
ORGANIZER;CN="Comunit%C3%A0%20Montana%20di%20Valle%20Sabbia":MAILTO:info@cmvs.it
END:VEVENT
BEGIN:VEVENT
DTSTART;VALUE=DATE:20250913
DTEND;VALUE=DATE:20251103
DTSTAMP:20260422T183402
CREATED:20250912T102055Z
LAST-MODIFIED:20250912T102055Z
UID:3040-1757721600-1762127999@sistemamuseale.cmvs.it
SUMMARY:Mostra fotografica "Il Chiese. Immaginando l'anima del Fiume"
DESCRIPTION:Fotografie di Pino Mongiello e Salvatore Attanasio.\n13 settembre – 2 novembre 2025\nex Centrale idroelettrica di Barghe \nVERNICE Sabato 13 settembre 2025 ore 10.30\naperto venerdì\, sabato e domenica\ndalle 15.00 alle 19.00\ningresso libero \nFin dagli albori della storia\, le immagini hanno rivestito una grande importanza per l’essere umano. Lo testimoniano i graffiti\, i dipinti\, gli affreschi\, le tele che hanno accompagnato il lungo percorso evolutivo della nostra specie. Risulta interessante notare quanto il mutare delle tecniche e dei materiali non abbia minimamente scalfito il primario\, istintivo desiderio di coloro che\, mossi sicuramente da passione e talento\, si sono prefissati di immortalare il presente\, consegnandolo\, quale preziosa testimonianza\, al futuro. \nDa qui l’interesse che la Comunità Montana di Valle Sabbia ha provato nei confronti della proposta avanzata da Pino Mongiello e Salvatore Attanasio\, rispetto a una mostra fotografica avente come soggetto il fiume Chiese; elemento già di per sé interessante che i proponenti\, peraltro realizzatori degli scatti\, hanno voluto valorizzare in tutto il suo percorso\, dalla sorgente alla foce\, esaltandone la bellezza con preziosi scorci dei territori che lambisce.\nUn progetto certamente ambizioso e complesso ma assai stimolante per l’ente\, che ha tra i suoi obbiettivi e doveri la promozione e lo sviluppo del territorio di sua competenza. \nIn particolare\, per una di quelle coincidenze che talvolta capitano\, è venuto naturale individuare la sede della mostra in un luogo simbolo del fiume Chiese\, vale a dire l’edificio\, sito nel comune di Barghe\, realizzato a inizio Novecento come centrale idroelettrica\, gestita dalla Società Elettrica Bresciana e\, fino alla dismissione negli anni settanta\, dall’Enel.\nQuale posto migliore\, quindi\, per una mostra sul fiume Chiese\, di un edificio che grazie allo stesso è nato e tanto ha contribuito alle esigenze umane?\nOggi\, con orgoglio e soddisfazione\, vediamo la realizzazione di quella che è stata inizialmente un’idea\, che dalla sua fase embrionale si è evoluta ed è culminata nella realizzazione di questo catalogo illustrativo della mostra\, che perpetuerà nel tempo la competenza e la passione regalataci dagli autori. \nPer ulteriori informazioni:\nsistemamuseale@cmvs.it
URL:https://sistemamuseale.cmvs.it/event/mostra-fotografica-il-chiese-immaginando-lanima-del-fiume/
LOCATION:Barghe\, Via Nazionale\, 4\, Barghe\, 25070
CATEGORIES:Apertura Straordinaria,Mostra
ATTACH;FMTTYPE=image/jpeg:https://sistemamuseale.cmvs.it/wp-content/uploads/2025/09/locandina-A3-Mostra-IL-CHIESE_page-0001.jpg
ORGANIZER;CN="Comunit%C3%A0%20Montana%20di%20Valle%20Sabbia":MAILTO:info@cmvs.it
END:VEVENT
BEGIN:VEVENT
DTSTART;TZID=Europe/Rome:20251004T160000
DTEND;TZID=Europe/Rome:20251004T180000
DTSTAMP:20260422T183402
CREATED:20250916T070535Z
LAST-MODIFIED:20250916T070535Z
UID:3043-1759593600-1759600800@sistemamuseale.cmvs.it
SUMMARY:Gente di Vallesabbia - Racconti resistenziali
DESCRIPTION:Gente di Vallesabbia – ciclo di incontri a cura dell’Associazione Artistica Culturale “Eridio” presso la Sala Convegni della Cassa Rurale di Ponte Caffaro. \nTutti i dettagli nella locandina allegata.
URL:https://sistemamuseale.cmvs.it/event/gente-di-vallesabbia-racconti-resistenziali/
LOCATION:Ponte Caffaro\, Ponte Caffaro\, 25072\, Italia
CATEGORIES:Conferenza
ATTACH;FMTTYPE=image/jpeg:https://sistemamuseale.cmvs.it/wp-content/uploads/2025/09/gente-di-vallesabbia-2025.jpeg
END:VEVENT
BEGIN:VEVENT
DTSTART;TZID=Europe/Rome:20251005T140000
DTEND;TZID=Europe/Rome:20251005T180000
DTSTAMP:20260422T183402
CREATED:20251001T103209Z
LAST-MODIFIED:20251001T103209Z
UID:3062-1759672800-1759687200@sistemamuseale.cmvs.it
SUMMARY:Escursione a Casto: “Un trekking urbano tra arte e cultura”
DESCRIPTION:Domenica 5 ottobre 2025 – ore 14:00\nRitrovo: Piazza del Municipio di Casto\nUn pomeriggio di cammino per scoprire le bellezze nascoste del borgo di Casto: dalle santelle alla fucina\, dal mulino alla chiesa di Sant’Antonio. Un percorso che intreccia natura\, arte sacra e cultura popolare\, per leggere insieme le tracce lasciate nel tempo dalla comunità.\nPercorso: 3\,5 km – dislivello 150 m – difficoltà turistica\nDurata: dalle ore 14:00 alle ore 18:00 circa\nAttrezzatura consigliata: scarpe comode\, borraccia d’acqua\, giaccavento \nLa visita è gratuita\, ma è richiesta la prenotazione.\nPosti limitati.\nLe prenotazioni dovranno pervenire entro sabato 4 ottobre alle ore 12\,00.\nCompila il modulo per riservare il tuo posto cliccando sul link: https://forms.gle/BVrErrQVKR2kv1wJ6
URL:https://sistemamuseale.cmvs.it/event/escursione-a-casto-un-trekking-urbano-tra-arte-e-cultura/
LOCATION:Casto\, Piazza del Municipio\, Casto\, BS\, 25070\, Italy
CATEGORIES:Escursione
ATTACH;FMTTYPE=image/jpeg:https://sistemamuseale.cmvs.it/wp-content/uploads/2025/10/casto-giovanni-freddi-5-ottobre.jpeg
END:VEVENT
BEGIN:VEVENT
DTSTART;TZID=Europe/Rome:20251005T150000
DTEND;TZID=Europe/Rome:20251005T180000
DTSTAMP:20260422T183402
CREATED:20250416T091454Z
LAST-MODIFIED:20250416T091454Z
UID:2748-1759676400-1759687200@sistemamuseale.cmvs.it
SUMMARY:Apertura Museo della Resistenza e del Folklore Valsabbino
DESCRIPTION:Il museo sarà aperto ogni prima domenica del mese\, dalle ore 15:00 alle 18:00\, fino al 5 ottobre 2025. \nVi invitiamo a scoprire questo importante patrimonio culturale che racconta la storia della resistenza locale e le tradizioni folkloristiche della Vallesabbia. \nPer maggiori informazioni e contatti\, visitate la pagina: https://sistemamuseale.cmvs.it/pertica-bassa/
URL:https://sistemamuseale.cmvs.it/event/apertura-museo-della-resistenza-e-del-folklore-valsabbino-6/
LOCATION:Museo della Resistenza e del Folklore Valsabbino\, Via Roma 7\, Forno d'Ono\, 25078\, Italia
CATEGORIES:Apertura Straordinaria
ATTACH;FMTTYPE=image/jpeg:https://sistemamuseale.cmvs.it/wp-content/uploads/2024/07/MdR8.jpg
END:VEVENT
BEGIN:VEVENT
DTSTART;TZID=Europe/Rome:20251005T170000
DTEND;TZID=Europe/Rome:20251005T183000
DTSTAMP:20260422T183402
CREATED:20250923T073727Z
LAST-MODIFIED:20250923T073727Z
UID:3054-1759683600-1759689000@sistemamuseale.cmvs.it
SUMMARY:Presentazione "Racconti Resistenziali" di Giuseppe Biati al Museo della Resistenza
DESCRIPTION:In occasione dell’80° anniversario della Liberazione\, il Museo della Resistenza ospita la presentazione del libro Racconti Resistenziali di Giuseppe Biati. \nL’opera raccoglie storie intense e dettagliate legate alla Resistenza\, offrendo uno sguardo coinvolgente su vicende di lotta\, coraggio e memoria.\nLa serata sarà arricchita dal dialogo con l’autore e dalle letture di Francesco Salvatti. \nIngresso libero. Per informazioni: contattare il museo.
URL:https://sistemamuseale.cmvs.it/event/presentazione-racconti-resistenziali-di-giuseppe-biati-al-museo-della-resistenza/
LOCATION:Museo della Resistenza e del Folklore Valsabbino\, Via Roma 7\, Forno d'Ono\, 25078\, Italia
CATEGORIES:Apertura Straordinaria,Incontro con l'autore
ATTACH;FMTTYPE=image/jpeg:https://sistemamuseale.cmvs.it/wp-content/uploads/2025/09/presentazione-libro-museo-resistenza-5-ottobre.jpeg
END:VEVENT
BEGIN:VEVENT
DTSTART;VALUE=DATE:20251012
DTEND;VALUE=DATE:20251013
DTSTAMP:20260422T183402
CREATED:20251003T075535Z
LAST-MODIFIED:20251003T075535Z
UID:3072-1760227200-1760313599@sistemamuseale.cmvs.it
SUMMARY:Domenica di Carta 2025 all'Archivio di Bagolino
DESCRIPTION:Il 12 ottobre ricorre l’edizione 2025 di Domenica di Carta: vi aspetta un’apertura straordinaria dell’Archivio Storico di Bagolino. Dalle 10 alle 12 e dalle 15 alle 17 i visitatori potranno ammirare registri e documenti inediti\, scoprendo curiosità e storie che raccontano la vita della comunità. \nUn appuntamento imperdibile per chi ama la memoria storica e vuole conoscere da vicino il patrimonio archivistico locale.\nVia A. Lombardi\, sede AVIS – Bagolino\nInfo: biblioteca@comune.bagolino.bs.it
URL:https://sistemamuseale.cmvs.it/event/domenica-di-carta-2025-allarchivio-di-bagolino/
LOCATION:Bagolino\, Via Parrocchia\, Bagolino\, 25070\, Italia
CATEGORIES:Apertura Straordinaria,Visita Guidata
ATTACH;FMTTYPE=image/jpeg:https://sistemamuseale.cmvs.it/wp-content/uploads/2025/10/bagolino-domenica-di-carta-1.jpg
END:VEVENT
BEGIN:VEVENT
DTSTART;TZID=Europe/Rome:20251012T150000
DTEND;TZID=Europe/Rome:20251012T170000
DTSTAMP:20260422T183402
CREATED:20251001T105932Z
LAST-MODIFIED:20251001T105949Z
UID:3069-1760281200-1760288400@sistemamuseale.cmvs.it
SUMMARY:FAMU al MAVS - Orsi\, lupi\, cinghiali e... quanti animali!
DESCRIPTION:Torna un nuovo appuntamento al Mavs nell’ambito delle domeniche dedicate alle famiglie e della rassegna “Mavs for Kids”.\nDomenica 12 ottobre\, presso la sede di piazza San Bernardino a Gavardo\, si svolgerà l’evento “Orsi\, lupi\, cinghiali e…quanti animali!”\, un’attività di laboratorio in cui bambine e bambini diventeranno piccoli paleontologi per scoprire gli animali che popolano il museo di Gavardo. Il laboratorio è proposto nella giornata FAMU – giornata nazionale delle famiglie al museo che viene organizzato ogni anno la seconda domenica del mese di ottobre. \nL’orario di inizio è alle ore 15.00.\nL’iniziativa\, curata dal servizio didattico del MAVS in collaborazione con le operatrici de La Melagrana\, con un costo di partecipazione di 2 euro a persona\, è rivolta ai bimbi e alle bimbe dai 4 agli 11 anni accompagnati.\nI posti sono limitati\, pertanto la prenotazione è necessaria e potrà effettuarsi mediante il link del modulo online disponibile a questo link: https://form.jotform.com/252721917351355\nPer ulteriori informazioni\, telefonare al 0365371474 (dal lunedì al venerdì\, dalle 9.00 alle 13.00 e il giovedì anche dalle 14.00 alle 17.00)\, oppure inviare una mail a: info@museoarcheologicogavardo.it. \n 
URL:https://sistemamuseale.cmvs.it/event/famu-al-mavs-orsi-lupi-cinghiali-e-quanti-animali/
LOCATION:museo archeologico della valle sabbia\, Piazza S. Bernardino\, 5\, Gavardo\, BS\, 25085\, Italia
CATEGORIES:Apertura Straordinaria,Attività Ludica,Laboratori
ATTACH;FMTTYPE=image/png:https://sistemamuseale.cmvs.it/wp-content/uploads/2025/10/12-ottobre.png
END:VEVENT
BEGIN:VEVENT
DTSTART;TZID=Europe/Rome:20251018T160000
DTEND;TZID=Europe/Rome:20251018T180000
DTSTAMP:20260422T183402
CREATED:20250916T070714Z
LAST-MODIFIED:20250916T070714Z
UID:3046-1760803200-1760810400@sistemamuseale.cmvs.it
SUMMARY:Gente di Vallesabbia - Stefano Stagnoli "Il poeta dell'immagine"
DESCRIPTION:Gente di Vallesabbia – ciclo di incontri a cura dell’Associazione Artistica Culturale “Eridio” presso la Sala Convegni della Cassa Rurale di Ponte Caffaro. \nTutti i dettagli nella locandina allegata.
URL:https://sistemamuseale.cmvs.it/event/gente-di-vallesabbia-stefano-stagnoli-il-poeta-dellimmagine/
LOCATION:Ponte Caffaro\, Ponte Caffaro\, 25072\, Italia
CATEGORIES:Conferenza
ATTACH;FMTTYPE=image/jpeg:https://sistemamuseale.cmvs.it/wp-content/uploads/2025/09/gente-di-vallesabbia-2025.jpeg
END:VEVENT
BEGIN:VEVENT
DTSTART;TZID=Europe/Rome:20251031T200000
DTEND;TZID=Europe/Rome:20251031T230000
DTSTAMP:20260422T183402
CREATED:20251020T124012Z
LAST-MODIFIED:20251020T124012Z
UID:3081-1761940800-1761951600@sistemamuseale.cmvs.it
SUMMARY:Halloween al MAVS. Una serata da paura!
DESCRIPTION:Speciale appuntamento “Halloween al Mavs. Una serata da paura!”. Un’esperienza unica per scoprire il museo archeologico anche di sera. \nL’evento\, che si terrà il 31 ottobre a partire dalle ore 20 e fino alle 23\, prevederà attività e laboratori creativi. È gradito abbigliamento a tema. \nL’iniziativa\, curata dai servizi educativi del MAVS in collaborazione con le educatrici della Cooperativa La Melagrana\, ha un costo di 14 euro\, ed è rivolta a ragazzi e ragazze che frequentano la classe V della scuola primaria e la classe I della scuola secondaria di primo grado. \nI posti sono limitati ed è pertanto necessaria la prenotazione entro giovedì 30 ottobre tramite sito web del museo al link: https://form.jotform.com/252863026162353  \nPer informazioni è possibile telefonare al numero 0365371474 (dal martedì al venerdì ore 9.00-13.00) o scrivere alla mail info@museoarcheologicogavardo.it
URL:https://sistemamuseale.cmvs.it/event/halloween-al-mavs-una-serata-da-paura/
LOCATION:museo archeologico della valle sabbia\, Piazza S. Bernardino\, 5\, Gavardo\, BS\, 25085\, Italia
CATEGORIES:Apertura Straordinaria,Attività Ludica,Laboratori
ATTACH;FMTTYPE=image/png:https://sistemamuseale.cmvs.it/wp-content/uploads/2025/10/Halloween.png
END:VEVENT
BEGIN:VEVENT
DTSTART;TZID=Europe/Rome:20251031T203000
DTEND;TZID=Europe/Rome:20251031T220000
DTSTAMP:20260422T183402
CREATED:20251021T083625Z
LAST-MODIFIED:20251021T083625Z
UID:3089-1761942600-1761948000@sistemamuseale.cmvs.it
SUMMARY:Presentazione del libro "Teresio Olivelli\, ribelle per amore" di Anselmo Palini
DESCRIPTION:Venerdì 31 ottobre 2025 ore 20\,30 presentazione del volume “Teresio Olivelli\, Ribelle per amore” \nSarà presente l’autore\nletture a cura di Antonella Pialorsi\npresso Museo della Resistenza e del Folklore Valsabbino\, ingresso libero
URL:https://sistemamuseale.cmvs.it/event/presentazione-del-libro-teresio-olivelli-ribelle-per-amore-di-anselmo-palini/
LOCATION:Museo della Resistenza e del Folklore Valsabbino\, Via Roma 7\, Forno d'Ono\, 25078\, Italia
CATEGORIES:Apertura Straordinaria,Incontro con l'autore
ATTACH;FMTTYPE=image/jpeg:https://sistemamuseale.cmvs.it/wp-content/uploads/2025/10/Locandina-Olivelli-Pertica-Bassa.jpg
END:VEVENT
END:VCALENDAR